BEGIN:VCALENDAR
PRODID:-//www.prestosports.com//PrestoSports//EN
VERSION:2.0
CALSCALE:GREGORIAN
BEGIN:VEVENT
DTSTAMP:20260423T132814Z
DTSTART:20210911T173000Z
DURATION:PT3H
SUMMARY:(Women's Water Polo) San Diego Miramar vs. LA Valley
TRANSP:TRANSPARENT
CATEGORIES:Women's Water Polo
DESCRIPTION:Women's Water Polo: (Women's Water Polo) San Diego Miramar vs. LA Valley\, LA Valley College Tournament\, Final\, 10-7
UID:2s3ixql71xg30ntm@prestosports.com
END:VEVENT
BEGIN:VEVENT
DTSTAMP:20260423T132814Z
DTSTART:20210911T190000Z
DURATION:PT3H
SUMMARY:(Women's Water Polo) El Camino vs. LA Valley
TRANSP:TRANSPARENT
CATEGORIES:Women's Water Polo
DESCRIPTION:Women's Water Polo: (Women's Water Polo) El Camino vs. LA Valley\, Final\, 8-5
UID:vqn5mp1jh7e30n8i@prestosports.com
END:VEVENT
BEGIN:VEVENT
DTSTAMP:20260423T132814Z
DTSTART:20210915T210000Z
DURATION:PT3H
SUMMARY:(Women's Water Polo) LA Valley at Ventura
TRANSP:TRANSPARENT
CATEGORIES:Women's Water Polo
DESCRIPTION:Women's Water Polo: (Women's Water Polo) LA Valley at Ventura\, Final\, 6-18
UID:si4vt1kehua03vkt@prestosports.com
END:VEVENT
BEGIN:VEVENT
DTSTAMP:20260423T132814Z
DTSTART:20210918T181500Z
DURATION:PT3H
SUMMARY:(Women's Water Polo) LA Valley at Saddleback
TRANSP:TRANSPARENT
CATEGORIES:Women's Water Polo
DESCRIPTION:Women's Water Polo: (Women's Water Polo) LA Valley at Saddleback\, Riverside Tourney\, Final\, 11-9
UID:ff7g4zj04y1aplzb@prestosports.com
END:VEVENT
BEGIN:VEVENT
DTSTAMP:20260423T132814Z
DTSTART:20210918T214500Z
DURATION:PT3H
SUMMARY:(Women's Water Polo) LA Valley vs. Citrus
TRANSP:TRANSPARENT
CATEGORIES:Women's Water Polo
LOCATION:Citrus College
DESCRIPTION:Women's Water Polo: (Women's Water Polo) LA Valley vs. Citrus\, RCC Tournament \, Final\, 6-15
UID:7vj984aavfbmbaw3@prestosports.com
END:VEVENT
BEGIN:VEVENT
DTSTAMP:20260423T132814Z
DTSTART:20210925T161000Z
DURATION:PT3H
SUMMARY:(Women's Water Polo) LA Valley vs. Golden West
TRANSP:TRANSPARENT
CATEGORIES:Women's Water Polo
LOCATION:Golden West
DESCRIPTION:Women's Water Polo: (Women's Water Polo) LA Valley vs. Golden West\, Golden West Tournament - Fans Allowed\, Final\, 5-15
UID:y3fqb22vc0igqacv@prestosports.com
END:VEVENT
BEGIN:VEVENT
DTSTAMP:20260423T132814Z
DTSTART:20210925T194000Z
DURATION:PT3H
SUMMARY:(Women's Water Polo) LA Valley vs. Riverside
TRANSP:TRANSPARENT
CATEGORIES:Women's Water Polo
LOCATION:Golden West
DESCRIPTION:Women's Water Polo: (Women's Water Polo) LA Valley vs. Riverside\, Golden West Tournament\, Final\, 4-16
UID:fn9455qig0xquxmi@prestosports.com
END:VEVENT
BEGIN:VEVENT
DTSTAMP:20260423T132814Z
DTSTART:20210929T223000Z
DURATION:PT3H
SUMMARY:(Women's Water Polo) LA Valley at Santa Monica
TRANSP:TRANSPARENT
CATEGORIES:Women's Water Polo
DESCRIPTION:Women's Water Polo: (Women's Water Polo) LA Valley at Santa Monica\, Final\, 21-5
UID:u64lol9sugz2vnxz@prestosports.com
END:VEVENT
BEGIN:VEVENT
DTSTAMP:20260423T132814Z
DTSTART:20211009T183000Z
DURATION:PT3H
SUMMARY:(Women's Water Polo) Chaffey vs. LA Valley
TRANSP:TRANSPARENT
CATEGORIES:Women's Water Polo
DESCRIPTION:Women's Water Polo: (Women's Water Polo) Chaffey vs. LA Valley\, Final\, 17-5
UID:klqdswnfao1oiwe8@prestosports.com
END:VEVENT
BEGIN:VEVENT
DTSTAMP:20260423T132814Z
DTSTART:20211013T220000Z
DURATION:PT3H
SUMMARY:(Women's Water Polo) Cuesta vs. LA Valley
TRANSP:TRANSPARENT
CATEGORIES:Women's Water Polo
DESCRIPTION:Women's Water Polo: (Women's Water Polo) Cuesta vs. LA Valley\, Cancelled
UID:3f1x17k7m30s0bkh@prestosports.com
END:VEVENT
BEGIN:VEVENT
DTSTAMP:20260423T132814Z
DTSTART:20211015T194000Z
DURATION:PT3H
SUMMARY:(Women's Water Polo) Saddleback vs. LA Valley
TRANSP:TRANSPARENT
CATEGORIES:Women's Water Polo
LOCATION:Citrus College
DESCRIPTION:Women's Water Polo: (Women's Water Polo) Saddleback vs. LA Valley\, Citrus Tournament\, Final\, 5-12
UID:ogfodxmn7zxee2fd@prestosports.com
END:VEVENT
BEGIN:VEVENT
DTSTAMP:20260423T132814Z
DTSTART:20211015T231000Z
DURATION:PT3H
SUMMARY:(Women's Water Polo) Pasadena City vs. LA Valley
TRANSP:TRANSPARENT
CATEGORIES:Women's Water Polo
LOCATION:Citrus College
DESCRIPTION:Women's Water Polo: (Women's Water Polo) Pasadena City vs. LA Valley\, Citrus Tournament\, Final\, 8-7
UID:q87cqfn39e7whp82@prestosports.com
END:VEVENT
BEGIN:VEVENT
DTSTAMP:20260423T132814Z
DTSTART:20211016T161000Z
DURATION:PT3H
SUMMARY:(Women's Water Polo) Chaffey vs. LA Valley
TRANSP:TRANSPARENT
CATEGORIES:Women's Water Polo
LOCATION:Citrus College
DESCRIPTION:Women's Water Polo: (Women's Water Polo) Chaffey vs. LA Valley\, Citrus Tourney\, Final\, 17-5
UID:xh8j476fmmben21n@prestosports.com
END:VEVENT
BEGIN:VEVENT
DTSTAMP:20260423T132814Z
DTSTART:20211016T183000Z
DURATION:PT3H
SUMMARY:(Women's Water Polo) Fresno City vs. LA Valley
TRANSP:TRANSPARENT
CATEGORIES:Women's Water Polo
LOCATION:Citrus College
DESCRIPTION:Women's Water Polo: (Women's Water Polo) Fresno City vs. LA Valley\, Citrus Tournament\, Final\, 5-11
UID:6jcitf0gupnpba7f@prestosports.com
END:VEVENT
BEGIN:VEVENT
DTSTAMP:20260423T132814Z
DTSTART:20211022T150000Z
DURATION:PT3H
SUMMARY:(Women's Water Polo) LA Valley vs. Orange Coast
TRANSP:TRANSPARENT
CATEGORIES:Women's Water Polo
LOCATION:Long Beach
DESCRIPTION:Women's Water Polo: (Women's Water Polo) LA Valley vs. Orange Coast\, Long Beach Tourney\, Final\, 5-16
UID:c9pnje3pmi89d9tc@prestosports.com
END:VEVENT
BEGIN:VEVENT
DTSTAMP:20260423T132814Z
DTSTART:20211022T205000Z
DURATION:PT3H
SUMMARY:(Women's Water Polo) Cypress vs. LA Valley
TRANSP:TRANSPARENT
CATEGORIES:Women's Water Polo
LOCATION:Cypress College
DESCRIPTION:Women's Water Polo: (Women's Water Polo) Cypress vs. LA Valley\, Long Beach Tournament \, Final\, 3-7
UID:0mwpm6yarw0vk9ew@prestosports.com
END:VEVENT
BEGIN:VEVENT
DTSTAMP:20260423T132814Z
DTSTART:20211023T183000Z
DURATION:PT3H
SUMMARY:(Women's Water Polo) LA Valley vs. Mt. San Antonio
TRANSP:TRANSPARENT
CATEGORIES:Women's Water Polo
LOCATION:Cypress College
DESCRIPTION:Women's Water Polo: (Women's Water Polo) LA Valley vs. Mt. San Antonio\, Long Beach Tournament\, due a electric fire and no power on campus. \, Cancelled
UID:53c9dl14pvyd3xqq@prestosports.com
END:VEVENT
BEGIN:VEVENT
DTSTAMP:20260423T132814Z
DTSTART:20211023T231000Z
DURATION:PT3H
SUMMARY:(Women's Water Polo) Grossmont vs. LA Valley
TRANSP:TRANSPARENT
CATEGORIES:Women's Water Polo
LOCATION:Cypress College
DESCRIPTION:Women's Water Polo: (Women's Water Polo) Grossmont vs. LA Valley\, Long Beach Tournament\, due a electric fire and no power on campus. \, Cancelled
UID:s4aca01t54k39xm5@prestosports.com
END:VEVENT
BEGIN:VEVENT
DTSTAMP:20260423T132814Z
DTSTART:20211028T000000Z
DURATION:PT3H
SUMMARY:(Women's Water Polo) LA Pierce vs. LA Valley
TRANSP:TRANSPARENT
CATEGORIES:Women's Water Polo
DESCRIPTION:Women's Water Polo: (Women's Water Polo) LA Pierce vs. LA Valley\, Final\, 18-4
UID:agigt5tsj5hzawbs@prestosports.com
END:VEVENT
BEGIN:VEVENT
DTSTAMP:20260423T132814Z
DTSTART:20211030T173000Z
DURATION:PT3H
SUMMARY:(Women's Water Polo) LA Valley at Santa Barbara
TRANSP:TRANSPARENT
CATEGORIES:Women's Water Polo
DESCRIPTION:Women's Water Polo: (Women's Water Polo) LA Valley at Santa Barbara\, Santa Barbara City Halloween Invitational @ Santa Barbara High School\, Final\, 5-9
UID:3phmr1p1bx47a38c@prestosports.com
END:VEVENT
BEGIN:VEVENT
DTSTAMP:20260423T132814Z
DTSTART:20211030T211500Z
DURATION:PT3H
SUMMARY:(Women's Water Polo) UC Santa Barbara Club Team vs. LA Valley
TRANSP:TRANSPARENT
CATEGORIES:Women's Water Polo
LOCATION:Santa Barbara HS
DESCRIPTION:Women's Water Polo: (Women's Water Polo) UC Santa Barbara Club Team vs. LA Valley\, Santa Barbara Tournament \, Final\, 2-13
UID:j42di2220humaxzi@prestosports.com
END:VEVENT
BEGIN:VEVENT
DTSTAMP:20260423T132814Z
DTSTART:20211102T230000Z
DURATION:PT3H
SUMMARY:(Women's Water Polo) Santa Monica vs. LA Valley
TRANSP:TRANSPARENT
CATEGORIES:Women's Water Polo
DESCRIPTION:Women's Water Polo: (Women's Water Polo) Santa Monica vs. LA Valley\, WSC Championship Play In Game\, Final\, 15-2
UID:pamvnmep1xfl1kc1@prestosports.com
END:VEVENT
BEGIN:VEVENT
DTSTAMP:20260423T132814Z
DTSTART:20211105T214500Z
DURATION:PT3H
SUMMARY:(Women's Water Polo) LA Valley vs. Santa Barbara
TRANSP:TRANSPARENT
CATEGORIES:Women's Water Polo
LOCATION:Citrus
DESCRIPTION:Women's Water Polo: (Women's Water Polo) LA Valley vs. Santa Barbara\, WSC Tournament Semifinal\, Final\, 3-16
UID:63ioxh15displ8ey@prestosports.com
END:VEVENT
BEGIN:VEVENT
DTSTAMP:20260423T132814Z
DTSTART:20211106T191500Z
DURATION:PT3H
SUMMARY:(Women's Water Polo) LA Valley at Citrus
TRANSP:TRANSPARENT
CATEGORIES:Women's Water Polo
DESCRIPTION:Women's Water Polo: (Women's Water Polo) LA Valley at Citrus\, WSC 3rd place Championship Tournament Game\, Final\, 13-16
UID:2fxrnglsmtbx1p75@prestosports.com
END:VEVENT
END:VCALENDAR
