BEGIN:VCALENDAR
PRODID:-//www.prestosports.com//PrestoSports//EN
VERSION:2.0
CALSCALE:GREGORIAN
BEGIN:VEVENT
DTSTAMP:20260420T184449Z
DTSTART:20180825T000000Z
DURATION:PT3H
SUMMARY:(Women's Soccer) Canyons vs. Ventura
TRANSP:TRANSPARENT
CATEGORIES:Women's Soccer
DESCRIPTION:Women's Soccer: (Women's Soccer) Canyons vs. Ventura\, Scrimmage
UID:y7jxo8u2g496n4bf@prestosports.com
END:VEVENT
BEGIN:VEVENT
DTSTAMP:20260420T184449Z
DTSTART:20180829T010000Z
DURATION:PT3H
SUMMARY:(Women's Soccer) Ventura at Citrus
TRANSP:TRANSPARENT
CATEGORIES:Women's Soccer
DESCRIPTION:Women's Soccer: (Women's Soccer) Ventura at Citrus\, Final\, 2-0
UID:u9kq01rgjnwx1frm@prestosports.com
END:VEVENT
BEGIN:VEVENT
DTSTAMP:20260420T184449Z
DTSTART:20180831T030000Z
DURATION:PT3H
SUMMARY:(Women's Soccer) Evergreen Valley vs. Ventura
TRANSP:TRANSPARENT
CATEGORIES:Women's Soccer
DESCRIPTION:Women's Soccer: (Women's Soccer) Evergreen Valley vs. Ventura\, New Balance Community College Showcase\, Final\, 2-2
UID:1yagfj5ilksc5zyx@prestosports.com
END:VEVENT
BEGIN:VEVENT
DTSTAMP:20260420T184449Z
DTSTART:20180901T230000Z
DURATION:PT3H
SUMMARY:(Women's Soccer) Hartnell vs. Ventura
TRANSP:TRANSPARENT
CATEGORIES:Women's Soccer
DESCRIPTION:Women's Soccer: (Women's Soccer) Hartnell vs. Ventura\, New Balance Community College Showcase\, Final\, 1-3
UID:8j9w2zh7ld1ztpnc@prestosports.com
END:VEVENT
BEGIN:VEVENT
DTSTAMP:20260420T184449Z
DTSTART:20180907T023000Z
DURATION:PT3H
SUMMARY:(Women's Soccer) Ventura at Las Positas
TRANSP:TRANSPARENT
CATEGORIES:Women's Soccer
DESCRIPTION:Women's Soccer: (Women's Soccer) Ventura at Las Positas\, Final\, 2-2
UID:q1kpjhwgsrdsxm1t@prestosports.com
END:VEVENT
BEGIN:VEVENT
DTSTAMP:20260420T184449Z
DTSTART:20180908T183000Z
DURATION:PT3H
SUMMARY:(Women's Soccer) Ventura vs. Santa Rosa
TRANSP:TRANSPARENT
CATEGORIES:Women's Soccer
LOCATION:Livermore
DESCRIPTION:Women's Soccer: (Women's Soccer) Ventura vs. Santa Rosa\, Las Positas Showcase\, Final\, 2-3
UID:1kxrha2z57q0l2d6@prestosports.com
END:VEVENT
BEGIN:VEVENT
DTSTAMP:20260420T184449Z
DTSTART:20180912T020000Z
DURATION:PT3H
SUMMARY:(Women's Soccer) Cerritos vs. Ventura
TRANSP:TRANSPARENT
CATEGORIES:Women's Soccer
DESCRIPTION:Women's Soccer: (Women's Soccer) Cerritos vs. Ventura\, Final\, 0-8
UID:94p91l6xdsdlm5nq@prestosports.com
END:VEVENT
BEGIN:VEVENT
DTSTAMP:20260420T184449Z
DTSTART:20180915T010000Z
DURATION:PT3H
SUMMARY:(Women's Soccer) Ventura at Rio Hondo
TRANSP:TRANSPARENT
CATEGORIES:Women's Soccer
DESCRIPTION:Women's Soccer: (Women's Soccer) Ventura at Rio Hondo\, Final\, 0-3
UID:i1c33oqb8n6ri2s4@prestosports.com
END:VEVENT
BEGIN:VEVENT
DTSTAMP:20260420T184449Z
DTSTART:20180919T010000Z
DURATION:PT3H
SUMMARY:(Women's Soccer) East Los Angeles vs. Ventura
TRANSP:TRANSPARENT
CATEGORIES:Women's Soccer
DESCRIPTION:Women's Soccer: (Women's Soccer) East Los Angeles vs. Ventura\, Final\, 1-1
UID:ho0uw5r65vj1er2t@prestosports.com
END:VEVENT
BEGIN:VEVENT
DTSTAMP:20260420T184449Z
DTSTART:20180921T230000Z
DURATION:PT3H
SUMMARY:(Women's Soccer) Ventura at LA Pierce
TRANSP:TRANSPARENT
CATEGORIES:Women's Soccer
DESCRIPTION:Women's Soccer: (Women's Soccer) Ventura at LA Pierce\, Final\, 3-4
UID:w1k7py2douc14i2q@prestosports.com
END:VEVENT
BEGIN:VEVENT
DTSTAMP:20260420T184449Z
DTSTART:20180926T010000Z
DURATION:PT3H
SUMMARY:(Women's Soccer) Santa Monica vs. Ventura
TRANSP:TRANSPARENT
CATEGORIES:Women's Soccer
DESCRIPTION:Women's Soccer: (Women's Soccer) Santa Monica vs. Ventura\, Final\, 0-0
UID:1qcdrp8i8ejaf07o@prestosports.com
END:VEVENT
BEGIN:VEVENT
DTSTAMP:20260420T184449Z
DTSTART:20180929T010000Z
DURATION:PT3H
SUMMARY:(Women's Soccer) Bakersfield vs. Ventura
TRANSP:TRANSPARENT
CATEGORIES:Women's Soccer
DESCRIPTION:Women's Soccer: (Women's Soccer) Bakersfield vs. Ventura\, Final\, 3-0
UID:5i77gq2284u3fskg@prestosports.com
END:VEVENT
BEGIN:VEVENT
DTSTAMP:20260420T184449Z
DTSTART:20181010T010000Z
DURATION:PT3H
SUMMARY:(Women's Soccer) Allan Hancock vs. Ventura
TRANSP:TRANSPARENT
CATEGORIES:Women's Soccer
DESCRIPTION:Women's Soccer: (Women's Soccer) Allan Hancock vs. Ventura\, Final\, 9-1
UID:x5s0jivl36lyv292@prestosports.com
END:VEVENT
BEGIN:VEVENT
DTSTAMP:20260420T184449Z
DTSTART:20181013T023000Z
DURATION:PT3H
SUMMARY:(Women's Soccer) Ventura at Santa Barbara
TRANSP:TRANSPARENT
CATEGORIES:Women's Soccer
DESCRIPTION:Women's Soccer: (Women's Soccer) Ventura at Santa Barbara\, Final\, 0-3
UID:kafn8k9sf81v8d5b@prestosports.com
END:VEVENT
BEGIN:VEVENT
DTSTAMP:20260420T184449Z
DTSTART:20181017T010000Z
DURATION:PT3H
SUMMARY:(Women's Soccer) Oxnard vs. Ventura
TRANSP:TRANSPARENT
CATEGORIES:Women's Soccer
DESCRIPTION:Women's Soccer: (Women's Soccer) Oxnard vs. Ventura\, Final\, 5-0
UID:lbh7c58hw2hfmke3@prestosports.com
END:VEVENT
BEGIN:VEVENT
DTSTAMP:20260420T184449Z
DTSTART:20181019T230000Z
DURATION:PT3H
SUMMARY:(Women's Soccer) Ventura at Moorpark
TRANSP:TRANSPARENT
CATEGORIES:Women's Soccer
DESCRIPTION:Women's Soccer: (Women's Soccer) Ventura at Moorpark\, Final\, 4-1
UID:q17npc929s9nrnor@prestosports.com
END:VEVENT
BEGIN:VEVENT
DTSTAMP:20260420T184449Z
DTSTART:20181024T010000Z
DURATION:PT3H
SUMMARY:(Women's Soccer) Cuesta vs. Ventura
TRANSP:TRANSPARENT
CATEGORIES:Women's Soccer
DESCRIPTION:Women's Soccer: (Women's Soccer) Cuesta vs. Ventura\, Final\, 8-1
UID:k3klw53k6c05yc34@prestosports.com
END:VEVENT
BEGIN:VEVENT
DTSTAMP:20260420T184449Z
DTSTART:20181026T210000Z
DURATION:PT3H
SUMMARY:(Women's Soccer) Ventura at Allan Hancock
TRANSP:TRANSPARENT
CATEGORIES:Women's Soccer
DESCRIPTION:Women's Soccer: (Women's Soccer) Ventura at Allan Hancock\, Final\, 3-0
UID:h8n83pwnm7kku98j@prestosports.com
END:VEVENT
BEGIN:VEVENT
DTSTAMP:20260420T184449Z
DTSTART:20181031T020000Z
DURATION:PT3H
SUMMARY:(Women's Soccer) Santa Barbara vs. Ventura
TRANSP:TRANSPARENT
CATEGORIES:Women's Soccer
DESCRIPTION:Women's Soccer: (Women's Soccer) Santa Barbara vs. Ventura\, Final\, 2-2
UID:g1vek4nwz6dmgilj@prestosports.com
END:VEVENT
BEGIN:VEVENT
DTSTAMP:20260420T184449Z
DTSTART:20181102T230000Z
DURATION:PT3H
SUMMARY:(Women's Soccer) Ventura at Oxnard
TRANSP:TRANSPARENT
CATEGORIES:Women's Soccer
DESCRIPTION:Women's Soccer: (Women's Soccer) Ventura at Oxnard\, Final\, 2-1
UID:dvv9rfwouzrbjzz3@prestosports.com
END:VEVENT
BEGIN:VEVENT
DTSTAMP:20260420T184449Z
DTSTART:20181107T020000Z
DURATION:PT3H
SUMMARY:(Women's Soccer) Moorpark vs. Ventura
TRANSP:TRANSPARENT
CATEGORIES:Women's Soccer
DESCRIPTION:Women's Soccer: (Women's Soccer) Moorpark vs. Ventura\, Final\, 4-0
UID:ojwdc9cgyykomdfi@prestosports.com
END:VEVENT
BEGIN:VEVENT
DTSTAMP:20260420T184449Z
DTSTART:20181109T230000Z
DURATION:PT3H
SUMMARY:(Women's Soccer) Ventura at Cuesta
TRANSP:TRANSPARENT
CATEGORIES:Women's Soccer
DESCRIPTION:Women's Soccer: (Women's Soccer) Ventura at Cuesta\, Final\, 6-0
UID:x4viedgozs9ott4t@prestosports.com
END:VEVENT
BEGIN:VEVENT
DTSTAMP:20260420T184449Z
DTSTART:20181117T220000Z
DURATION:PT3H
SUMMARY:(Women's Soccer) Ventura at San Bernardino Valley
TRANSP:TRANSPARENT
CATEGORIES:Women's Soccer
DESCRIPTION:Women's Soccer: (Women's Soccer) Ventura at San Bernardino Valley\, SoCal Regional Playoffs\, First Round\, Final\, 2-5
UID:q55603j348z8yiyi@prestosports.com
END:VEVENT
END:VCALENDAR
