BEGIN:VCALENDAR
PRODID:-//www.prestosports.com//PrestoSports//EN
VERSION:2.0
CALSCALE:GREGORIAN
BEGIN:VEVENT
DTSTAMP:20260420T224613Z
DTSTART:20121115T013000Z
DURATION:PT3H
SUMMARY:(Men's Basketball) Chaffey vs. LA Southwest
TRANSP:TRANSPARENT
CATEGORIES:Men's Basketball
LOCATION:Fullerton 
DESCRIPTION:Men's Basketball: (Men's Basketball) Chaffey vs. LA Southwest\, Final\, 100-65
UID:ja0r3jr2kyfktbhz@prestosports.com
END:VEVENT
BEGIN:VEVENT
DTSTAMP:20260420T224613Z
DTSTART:20121117T040000Z
DURATION:PT3H
SUMMARY:(Men's Basketball) Chaffey at Fullerton
TRANSP:TRANSPARENT
CATEGORIES:Men's Basketball
DESCRIPTION:Men's Basketball: (Men's Basketball) Chaffey at Fullerton\, Fullerton Classic\, Final\, 86-69
UID:6ze5w2bj6yx3pgvm@prestosports.com
END:VEVENT
BEGIN:VEVENT
DTSTAMP:20260420T224613Z
DTSTART:20121118T030000Z
DURATION:PT3H
SUMMARY:(Men's Basketball) Saddleback vs. Chaffey
TRANSP:TRANSPARENT
CATEGORIES:Men's Basketball
LOCATION:Fullerton Classic
DESCRIPTION:Men's Basketball: (Men's Basketball) Saddleback vs. Chaffey\, Tourn. champ.\, Final\, 78-67
UID:fwuelvrxgutc2jya@prestosports.com
END:VEVENT
BEGIN:VEVENT
DTSTAMP:20260420T224613Z
DTSTART:20121124T030000Z
DURATION:PT3H
SUMMARY:(Men's Basketball) El Camino vs. Chaffey
TRANSP:TRANSPARENT
CATEGORIES:Men's Basketball
LOCATION:Citrus College
DESCRIPTION:Men's Basketball: (Men's Basketball) El Camino vs. Chaffey\, Neil Edwards Classic\, Final\, 100-78
UID:6z8m15dj87z2e0la@prestosports.com
END:VEVENT
BEGIN:VEVENT
DTSTAMP:20260420T224613Z
DTSTART:20121124T220000Z
DURATION:PT3H
SUMMARY:(Men's Basketball) Chaffey vs. LA Pierce
TRANSP:TRANSPARENT
CATEGORIES:Men's Basketball
LOCATION:Citrus College
DESCRIPTION:Men's Basketball: (Men's Basketball) Chaffey vs. LA Pierce\, Neil Edwards Classic\, Final\, 86-94
UID:u6n3cac1j2ydomj4@prestosports.com
END:VEVENT
BEGIN:VEVENT
DTSTAMP:20260420T224613Z
DTSTART:20121126T000000Z
DURATION:PT3H
SUMMARY:(Men's Basketball) Chaffey vs. East Los Angeles
TRANSP:TRANSPARENT
CATEGORIES:Men's Basketball
LOCATION:Citrus College
DESCRIPTION:Men's Basketball: (Men's Basketball) Chaffey vs. East Los Angeles\, Neil Edwards Classic\, Final - OT\, 88-91
UID:oisjdjv5g6v12mg9@prestosports.com
END:VEVENT
BEGIN:VEVENT
DTSTAMP:20260420T224613Z
DTSTART:20121206T020000Z
DURATION:PT3H
SUMMARY:(Men's Basketball) Chaffey vs. Fresno City
TRANSP:TRANSPARENT
CATEGORIES:Men's Basketball
LOCATION:Modesto Jr 
DESCRIPTION:Men's Basketball: (Men's Basketball) Chaffey vs. Fresno City\, Final\, 63-64
UID:ycjfn6gk1hakjbhb@prestosports.com
END:VEVENT
BEGIN:VEVENT
DTSTAMP:20260420T224613Z
DTSTART:20121206T220000Z
DURATION:PT3H
SUMMARY:(Men's Basketball) Chaffey at Imperial Valley
TRANSP:TRANSPARENT
CATEGORIES:Men's Basketball
DESCRIPTION:Men's Basketball: (Men's Basketball) Chaffey at Imperial Valley\, Final\, 86-68
UID:k0c0tm43qyjusyxw@prestosports.com
END:VEVENT
BEGIN:VEVENT
DTSTAMP:20260420T224613Z
DTSTART:20121207T200000Z
DURATION:PT3H
SUMMARY:(Men's Basketball) Mendocino vs. Chaffey
TRANSP:TRANSPARENT
CATEGORIES:Men's Basketball
DESCRIPTION:Men's Basketball: (Men's Basketball) Mendocino vs. Chaffey\, Final\, 98-52
UID:p9c54opfzs1gipji@prestosports.com
END:VEVENT
BEGIN:VEVENT
DTSTAMP:20260420T224613Z
DTSTART:20121208T210000Z
DURATION:PT3H
SUMMARY:(Men's Basketball) Yuba vs. Chaffey
TRANSP:TRANSPARENT
CATEGORIES:Men's Basketball
DESCRIPTION:Men's Basketball: (Men's Basketball) Yuba vs. Chaffey\, Final\, 95-59
UID:redx1r4b7lft30oj@prestosports.com
END:VEVENT
BEGIN:VEVENT
DTSTAMP:20260420T224613Z
DTSTART:20121215T030000Z
DURATION:PT3H
SUMMARY:(Men's Basketball) Chaffey at Imperial Valley
TRANSP:TRANSPARENT
CATEGORIES:Men's Basketball
DESCRIPTION:Men's Basketball: (Men's Basketball) Chaffey at Imperial Valley\, Final\, 105-62
UID:8simok15woiquj8o@prestosports.com
END:VEVENT
BEGIN:VEVENT
DTSTAMP:20260420T224613Z
DTSTART:20121220T030000Z
DURATION:PT3H
SUMMARY:(Men's Basketball) Cypress vs. Chaffey
TRANSP:TRANSPARENT
CATEGORIES:Men's Basketball
DESCRIPTION:Men's Basketball: (Men's Basketball) Cypress vs. Chaffey\, Final\, 115-75
UID:oz9c1lhl29ql2dzj@prestosports.com
END:VEVENT
BEGIN:VEVENT
DTSTAMP:20260420T224613Z
DTSTART:20121228T010000Z
DURATION:PT3H
SUMMARY:(Men's Basketball) Orange Coast vs. Chaffey
TRANSP:TRANSPARENT
CATEGORIES:Men's Basketball
LOCATION:College of the Canyons
DESCRIPTION:Men's Basketball: (Men's Basketball) Orange Coast vs. Chaffey\, Canyons Tournament\, Final\, 89-66
UID:9jb60u12ltuby72s@prestosports.com
END:VEVENT
BEGIN:VEVENT
DTSTAMP:20260420T224613Z
DTSTART:20121229T030000Z
DURATION:PT3H
SUMMARY:(Men's Basketball) Chaffey at Canyons
TRANSP:TRANSPARENT
CATEGORIES:Men's Basketball
DESCRIPTION:Men's Basketball: (Men's Basketball) Chaffey at Canyons\, Cougar Holiday Classic\, Final\, 88-66
UID:52m435azchqrrsq1@prestosports.com
END:VEVENT
BEGIN:VEVENT
DTSTAMP:20260420T224613Z
DTSTART:20121230T010000Z
DURATION:PT3H
SUMMARY:(Men's Basketball) Antelope Valley vs. Chaffey
TRANSP:TRANSPARENT
CATEGORIES:Men's Basketball
LOCATION:Canyons Tournament
DESCRIPTION:Men's Basketball: (Men's Basketball) Antelope Valley vs. Chaffey\, Final\, 83-85
UID:3pckcoy8fuggbtd8@prestosports.com
END:VEVENT
BEGIN:VEVENT
DTSTAMP:20260420T224613Z
DTSTART:20130105T230000Z
DURATION:PT3H
SUMMARY:(Men's Basketball) Rio Hondo vs. Chaffey
TRANSP:TRANSPARENT
CATEGORIES:Men's Basketball
DESCRIPTION:Men's Basketball: (Men's Basketball) Rio Hondo vs. Chaffey\, Final\, 111-67
UID:t716ls9fpp1j0tm8@prestosports.com
END:VEVENT
BEGIN:VEVENT
DTSTAMP:20260420T224613Z
DTSTART:20130110T030000Z
DURATION:PT3H
SUMMARY:(Men's Basketball) San Bernardino vs. Chaffey
TRANSP:TRANSPARENT
CATEGORIES:Men's Basketball
DESCRIPTION:Men's Basketball: (Men's Basketball) San Bernardino vs. Chaffey\, Final\, 82-61
UID:57vgxb9dzobkdi8m@prestosports.com
END:VEVENT
BEGIN:VEVENT
DTSTAMP:20260420T224613Z
DTSTART:20130112T230000Z
DURATION:PT3H
SUMMARY:(Men's Basketball) Chaffey at Antelope Valley
TRANSP:TRANSPARENT
CATEGORIES:Men's Basketball
DESCRIPTION:Men's Basketball: (Men's Basketball) Chaffey at Antelope Valley\, Final\, 70-85
UID:dn93mhmjsmuu2w5q@prestosports.com
END:VEVENT
BEGIN:VEVENT
DTSTAMP:20260420T224613Z
DTSTART:20130117T030000Z
DURATION:PT3H
SUMMARY:(Men's Basketball) Desert vs. Chaffey
TRANSP:TRANSPARENT
CATEGORIES:Men's Basketball
DESCRIPTION:Men's Basketball: (Men's Basketball) Desert vs. Chaffey\, Final\, 101-67
UID:6tbk86621apm3hlh@prestosports.com
END:VEVENT
BEGIN:VEVENT
DTSTAMP:20260420T224613Z
DTSTART:20130119T230000Z
DURATION:PT3H
SUMMARY:(Men's Basketball) Barstow vs. Chaffey
TRANSP:TRANSPARENT
CATEGORIES:Men's Basketball
DESCRIPTION:Men's Basketball: (Men's Basketball) Barstow vs. Chaffey\, Final\, 85-62
UID:q7ybroqypf3aofaj@prestosports.com
END:VEVENT
BEGIN:VEVENT
DTSTAMP:20260420T224613Z
DTSTART:20130124T030000Z
DURATION:PT3H
SUMMARY:(Men's Basketball) Chaffey at Mt. San Jacinto
TRANSP:TRANSPARENT
CATEGORIES:Men's Basketball
DESCRIPTION:Men's Basketball: (Men's Basketball) Chaffey at Mt. San Jacinto\, Final\, 93-81
UID:1ztzahelv6aza79n@prestosports.com
END:VEVENT
BEGIN:VEVENT
DTSTAMP:20260420T224613Z
DTSTART:20130126T230000Z
DURATION:PT3H
SUMMARY:(Men's Basketball) Victor Valley vs. Chaffey
TRANSP:TRANSPARENT
CATEGORIES:Men's Basketball
DESCRIPTION:Men's Basketball: (Men's Basketball) Victor Valley vs. Chaffey\, Final\, 97-59
UID:xa9bsfheuef5z45e@prestosports.com
END:VEVENT
BEGIN:VEVENT
DTSTAMP:20260420T224613Z
DTSTART:20130202T230000Z
DURATION:PT3H
SUMMARY:(Men's Basketball) Chaffey at Rio Hondo
TRANSP:TRANSPARENT
CATEGORIES:Men's Basketball
DESCRIPTION:Men's Basketball: (Men's Basketball) Chaffey at Rio Hondo\, Final\, 76-46
UID:w9twmn5oagnaov53@prestosports.com
END:VEVENT
BEGIN:VEVENT
DTSTAMP:20260420T224613Z
DTSTART:20130207T030000Z
DURATION:PT3H
SUMMARY:(Men's Basketball) Chaffey at San Bernardino
TRANSP:TRANSPARENT
CATEGORIES:Men's Basketball
DESCRIPTION:Men's Basketball: (Men's Basketball) Chaffey at San Bernardino\, Final\, 78-70
UID:ayw16w2mltl66bm8@prestosports.com
END:VEVENT
BEGIN:VEVENT
DTSTAMP:20260420T224613Z
DTSTART:20130209T230000Z
DURATION:PT3H
SUMMARY:(Men's Basketball) Antelope Valley vs. Chaffey
TRANSP:TRANSPARENT
CATEGORIES:Men's Basketball
DESCRIPTION:Men's Basketball: (Men's Basketball) Antelope Valley vs. Chaffey\, Final\, 73-83
UID:e0nmi6r95r6n905k@prestosports.com
END:VEVENT
BEGIN:VEVENT
DTSTAMP:20260420T224613Z
DTSTART:20130214T030000Z
DURATION:PT3H
SUMMARY:(Men's Basketball) Chaffey at Desert
TRANSP:TRANSPARENT
CATEGORIES:Men's Basketball
DESCRIPTION:Men's Basketball: (Men's Basketball) Chaffey at Desert\, Final\, 85-71
UID:gaxt3u0wewueztd5@prestosports.com
END:VEVENT
BEGIN:VEVENT
DTSTAMP:20260420T224613Z
DTSTART:20130216T230000Z
DURATION:PT3H
SUMMARY:(Men's Basketball) Chaffey at Barstow
TRANSP:TRANSPARENT
CATEGORIES:Men's Basketball
DESCRIPTION:Men's Basketball: (Men's Basketball) Chaffey at Barstow\, Final\, 100-73
UID:5yspvclgad1eqidz@prestosports.com
END:VEVENT
BEGIN:VEVENT
DTSTAMP:20260420T224613Z
DTSTART:20130221T030000Z
DURATION:PT3H
SUMMARY:(Men's Basketball) Mt. San Jacinto vs. Chaffey
TRANSP:TRANSPARENT
CATEGORIES:Men's Basketball
DESCRIPTION:Men's Basketball: (Men's Basketball) Mt. San Jacinto vs. Chaffey\, Final\, 93-78
UID:h33a3wyy28730vn4@prestosports.com
END:VEVENT
BEGIN:VEVENT
DTSTAMP:20260420T224613Z
DTSTART:20130223T230000Z
DURATION:PT3H
SUMMARY:(Men's Basketball) Chaffey at Victor Valley
TRANSP:TRANSPARENT
CATEGORIES:Men's Basketball
DESCRIPTION:Men's Basketball: (Men's Basketball) Chaffey at Victor Valley\, Final\, 123-66
UID:la92mwrik69bmini@prestosports.com
END:VEVENT
BEGIN:VEVENT
DTSTAMP:20260420T224613Z
DTSTART:20130303T030000Z
DURATION:PT3H
SUMMARY:(Men's Basketball) Irvine Valley vs. Chaffey
TRANSP:TRANSPARENT
CATEGORIES:Men's Basketball
DESCRIPTION:Men's Basketball: (Men's Basketball) Irvine Valley vs. Chaffey\, Final\, 73-59
UID:h6ahh3sedabrvc9j@prestosports.com
END:VEVENT
BEGIN:VEVENT
DTSTAMP:20260420T224613Z
DTSTART:20130307T030000Z
DURATION:PT3H
SUMMARY:(Men's Basketball) Palomar vs. Chaffey
TRANSP:TRANSPARENT
CATEGORIES:Men's Basketball
DESCRIPTION:Men's Basketball: (Men's Basketball) Palomar vs. Chaffey\, Final\, 82-67
UID:hgha1b0xtjcdsza0@prestosports.com
END:VEVENT
BEGIN:VEVENT
DTSTAMP:20260420T224613Z
DTSTART:20130310T030000Z
DURATION:PT3H
SUMMARY:(Men's Basketball) Chaffey at Saddleback
TRANSP:TRANSPARENT
CATEGORIES:Men's Basketball
DESCRIPTION:Men's Basketball: (Men's Basketball) Chaffey at Saddleback\, Southern California Regional Finals\, Final\, 73-60
UID:6z0nneh8iq6uee27@prestosports.com
END:VEVENT
BEGIN:VEVENT
DTSTAMP:20260420T224613Z
DTSTART:20130316T020000Z
DURATION:PT3H
SUMMARY:(Men's Basketball) Chaffey vs. San Francisco
TRANSP:TRANSPARENT
CATEGORIES:Men's Basketball
LOCATION:Sacramento\, CA
DESCRIPTION:Men's Basketball: (Men's Basketball) Chaffey vs. San Francisco\, Final\, 87-85
UID:5bwg2qdyafnucitc@prestosports.com
END:VEVENT
BEGIN:VEVENT
DTSTAMP:20260420T224613Z
DTSTART:20130317T200000Z
DURATION:PT3H
SUMMARY:(Men's Basketball) Chaffey vs. Mt. San Antonio
TRANSP:TRANSPARENT
CATEGORIES:Men's Basketball
LOCATION:Cosumnes River College
DESCRIPTION:Men's Basketball: (Men's Basketball) Chaffey vs. Mt. San Antonio\, State Championship\, Final\, 88-102
UID:5064nqj27rflogil@prestosports.com
END:VEVENT
END:VCALENDAR
