BEGIN:VCALENDAR
PRODID:-//www.prestosports.com//PrestoSports//EN
VERSION:2.0
CALSCALE:GREGORIAN
BEGIN:VEVENT
DTSTAMP:20260421T082253Z
DTSTART:20230121T200000Z
DURATION:PT3H
SUMMARY:(Baseball) Cerro Coso vs. Sequoias
TRANSP:TRANSPARENT
CATEGORIES:Baseball
DESCRIPTION:Baseball: (Baseball) Cerro Coso vs. Sequoias\, Scrimmage
UID:8mkx3k4377s4ngs9@prestosports.com
END:VEVENT
BEGIN:VEVENT
DTSTAMP:20260421T082253Z
DTSTART:20230124T210000Z
DURATION:PT3H
SUMMARY:(Baseball) Porterville vs. Sequoias
TRANSP:TRANSPARENT
CATEGORIES:Baseball
DESCRIPTION:Baseball: (Baseball) Porterville vs. Sequoias\, Scrimmage
UID:8t039u2fz6jj05cd@prestosports.com
END:VEVENT
BEGIN:VEVENT
DTSTAMP:20260421T082253Z
DTSTART:20230127T220000Z
DURATION:PT3H
SUMMARY:(Baseball) Allan Hancock vs. Sequoias
TRANSP:TRANSPARENT
CATEGORIES:Baseball
DESCRIPTION:Baseball: (Baseball) Allan Hancock vs. Sequoias\, Final\, 5-7
UID:u0vdvh9hgabns39z@prestosports.com
END:VEVENT
BEGIN:VEVENT
DTSTAMP:20260421T082253Z
DTSTART:20230128T210000Z
DURATION:PT3H
SUMMARY:(Baseball) Allan Hancock vs. Sequoias
TRANSP:TRANSPARENT
CATEGORIES:Baseball
DESCRIPTION:Baseball: (Baseball) Allan Hancock vs. Sequoias\, Final\, 10-14
UID:p3unlob1fji506kz@prestosports.com
END:VEVENT
BEGIN:VEVENT
DTSTAMP:20260421T082253Z
DTSTART:20230131T220000Z
DURATION:PT3H
SUMMARY:(Baseball) Sequoias at Bakersfield
TRANSP:TRANSPARENT
CATEGORIES:Baseball
DESCRIPTION:Baseball: (Baseball) Sequoias at Bakersfield\, Final\, 5-9
UID:aedo12kuqo4f7cvi@prestosports.com
END:VEVENT
BEGIN:VEVENT
DTSTAMP:20260421T082253Z
DTSTART:20230202T220000Z
DURATION:PT3H
SUMMARY:(Baseball) Marin vs. Sequoias
TRANSP:TRANSPARENT
CATEGORIES:Baseball
DESCRIPTION:Baseball: (Baseball) Marin vs. Sequoias\, Final\, 9-7
UID:0i3nkifl3h8jql6b@prestosports.com
END:VEVENT
BEGIN:VEVENT
DTSTAMP:20260421T082253Z
DTSTART:20230203T210000Z
DURATION:PT3H
SUMMARY:(Baseball) Marin vs. Sequoias
TRANSP:TRANSPARENT
CATEGORIES:Baseball
DESCRIPTION:Baseball: (Baseball) Marin vs. Sequoias\, Final\, 14-11
UID:wxzipmtoqm3a0ang@prestosports.com
END:VEVENT
BEGIN:VEVENT
DTSTAMP:20260421T082253Z
DTSTART:20230204T200000Z
DURATION:PT3H
SUMMARY:(Baseball) Marin vs. Sequoias
TRANSP:TRANSPARENT
CATEGORIES:Baseball
DESCRIPTION:Baseball: (Baseball) Marin vs. Sequoias\, Final\, 2-8
UID:gshr724s4zupi4br@prestosports.com
END:VEVENT
BEGIN:VEVENT
DTSTAMP:20260421T082253Z
DTSTART:20230209T220000Z
DURATION:PT3H
SUMMARY:(Baseball) Sequoias at Cuesta
TRANSP:TRANSPARENT
CATEGORIES:Baseball
DESCRIPTION:Baseball: (Baseball) Sequoias at Cuesta\, Final\, 0-7
UID:2pt81c0ahjn5y7yc@prestosports.com
END:VEVENT
BEGIN:VEVENT
DTSTAMP:20260421T082253Z
DTSTART:20230210T210000Z
DURATION:PT3H
SUMMARY:(Baseball) Sequoias at Cuesta
TRANSP:TRANSPARENT
CATEGORIES:Baseball
DESCRIPTION:Baseball: (Baseball) Sequoias at Cuesta\, Final\, 4-6
UID:fohtwbw60m4gw0i4@prestosports.com
END:VEVENT
BEGIN:VEVENT
DTSTAMP:20260421T082253Z
DTSTART:20230214T220000Z
DURATION:PT3H
SUMMARY:(Baseball) Allan Hancock vs. Sequoias
TRANSP:TRANSPARENT
CATEGORIES:Baseball
DESCRIPTION:Baseball: (Baseball) Allan Hancock vs. Sequoias\, Final\, 7-11
UID:3ey5nojalxrf94hh@prestosports.com
END:VEVENT
BEGIN:VEVENT
DTSTAMP:20260421T082253Z
DTSTART:20230217T220000Z
DURATION:PT3H
SUMMARY:(Baseball) Golden West vs. Sequoias
TRANSP:TRANSPARENT
CATEGORIES:Baseball
DESCRIPTION:Baseball: (Baseball) Golden West vs. Sequoias\, Final\, 4-3
UID:560q1ews8lsnjndm@prestosports.com
END:VEVENT
BEGIN:VEVENT
DTSTAMP:20260421T082253Z
DTSTART:20230218T210000Z
DURATION:PT3H
SUMMARY:(Baseball) Golden West vs. Sequoias
TRANSP:TRANSPARENT
CATEGORIES:Baseball
DESCRIPTION:Baseball: (Baseball) Golden West vs. Sequoias\, Final\, 15-8
UID:rhq3w4bq6gu4k20x@prestosports.com
END:VEVENT
BEGIN:VEVENT
DTSTAMP:20260421T082253Z
DTSTART:20230219T210000Z
DURATION:PT3H
SUMMARY:(Baseball) Golden West vs. Sequoias
TRANSP:TRANSPARENT
CATEGORIES:Baseball
DESCRIPTION:Baseball: (Baseball) Golden West vs. Sequoias\, Final\, 3-8
UID:b0qphiobb6yqocgg@prestosports.com
END:VEVENT
BEGIN:VEVENT
DTSTAMP:20260421T082253Z
DTSTART:20230221T230000Z
DURATION:PT3H
SUMMARY:(Baseball) Sequoias at Fresno City
TRANSP:TRANSPARENT
CATEGORIES:Baseball
DESCRIPTION:Baseball: (Baseball) Sequoias at Fresno City\, Final\, 1-18
UID:o1l0tv8a1s8y7nnm@prestosports.com
END:VEVENT
BEGIN:VEVENT
DTSTAMP:20260421T082253Z
DTSTART:20230222T210000Z
DURATION:PT3H
SUMMARY:(Baseball) Fresno City vs. Sequoias
TRANSP:TRANSPARENT
CATEGORIES:Baseball
DESCRIPTION:Baseball: (Baseball) Fresno City vs. Sequoias\, Final\, 3-8
UID:a0j6b33emrbo17fx@prestosports.com
END:VEVENT
BEGIN:VEVENT
DTSTAMP:20260421T082253Z
DTSTART:20230225T210000Z
DURATION:PT3H
SUMMARY:(Baseball) Sequoias at Fresno City
TRANSP:TRANSPARENT
CATEGORIES:Baseball
DESCRIPTION:Baseball: (Baseball) Sequoias at Fresno City\, Final\, 6-1
UID:8es125xf6aqtdv64@prestosports.com
END:VEVENT
BEGIN:VEVENT
DTSTAMP:20260421T082253Z
DTSTART:20230302T220000Z
DURATION:PT3H
SUMMARY:(Baseball) Merced vs. Sequoias
TRANSP:TRANSPARENT
CATEGORIES:Baseball
DESCRIPTION:Baseball: (Baseball) Merced vs. Sequoias\, Final\, 4-3
UID:ddxeyif0sgvzyokk@prestosports.com
END:VEVENT
BEGIN:VEVENT
DTSTAMP:20260421T082253Z
DTSTART:20230303T220000Z
DURATION:PT3H
SUMMARY:(Baseball) Sequoias at Merced
TRANSP:TRANSPARENT
CATEGORIES:Baseball
DESCRIPTION:Baseball: (Baseball) Sequoias at Merced\, Final\, 8-10
UID:nx256yobaiet5svh@prestosports.com
END:VEVENT
BEGIN:VEVENT
DTSTAMP:20260421T082253Z
DTSTART:20230304T210000Z
DURATION:PT3H
SUMMARY:(Baseball) Sequoias at Merced
TRANSP:TRANSPARENT
CATEGORIES:Baseball
DESCRIPTION:Baseball: (Baseball) Sequoias at Merced\, Final\, 10-8
UID:4o1odd64c0agiq60@prestosports.com
END:VEVENT
BEGIN:VEVENT
DTSTAMP:20260421T082253Z
DTSTART:20230307T220000Z
DURATION:PT3H
SUMMARY:(Baseball) Coalinga vs. Sequoias
TRANSP:TRANSPARENT
CATEGORIES:Baseball
DESCRIPTION:Baseball: (Baseball) Coalinga vs. Sequoias\, Final\, 4-3
UID:5hmx11ox7blizaxy@prestosports.com
END:VEVENT
BEGIN:VEVENT
DTSTAMP:20260421T082253Z
DTSTART:20230308T220000Z
DURATION:PT3H
SUMMARY:(Baseball) Coalinga vs. Sequoias
TRANSP:TRANSPARENT
CATEGORIES:Baseball
DESCRIPTION:Baseball: (Baseball) Coalinga vs. Sequoias\, Final\, 4-2
UID:s8zv5i1z7kfd254x@prestosports.com
END:VEVENT
BEGIN:VEVENT
DTSTAMP:20260421T082253Z
DTSTART:20230311T210000Z
DURATION:PT3H
SUMMARY:(Baseball) Sequoias at Coalinga
TRANSP:TRANSPARENT
CATEGORIES:Baseball
DESCRIPTION:Baseball: (Baseball) Sequoias at Coalinga\, Final\, 8-16
UID:k1k25pgj5kw8q4if@prestosports.com
END:VEVENT
BEGIN:VEVENT
DTSTAMP:20260421T082253Z
DTSTART:20230316T210000Z
DURATION:PT3H
SUMMARY:(Baseball) Porterville vs. Sequoias
TRANSP:TRANSPARENT
CATEGORIES:Baseball
DESCRIPTION:Baseball: (Baseball) Porterville vs. Sequoias\, Final\, 8-5
UID:3c1x3g8dchw0gl9l@prestosports.com
END:VEVENT
BEGIN:VEVENT
DTSTAMP:20260421T082253Z
DTSTART:20230317T210000Z
DURATION:PT3H
SUMMARY:(Baseball) Sequoias at Porterville
TRANSP:TRANSPARENT
CATEGORIES:Baseball
DESCRIPTION:Baseball: (Baseball) Sequoias at Porterville\, Final\, 15-2
UID:2glbeqa2hct756zh@prestosports.com
END:VEVENT
BEGIN:VEVENT
DTSTAMP:20260421T082253Z
DTSTART:20230318T200000Z
DURATION:PT3H
SUMMARY:(Baseball) Porterville vs. Sequoias
TRANSP:TRANSPARENT
CATEGORIES:Baseball
DESCRIPTION:Baseball: (Baseball) Porterville vs. Sequoias\, Final\, 9-4
UID:l31r85e3puz5jx47@prestosports.com
END:VEVENT
BEGIN:VEVENT
DTSTAMP:20260421T082253Z
DTSTART:20230323T210000Z
DURATION:PT3H
SUMMARY:(Baseball) Reedley vs. Sequoias
TRANSP:TRANSPARENT
CATEGORIES:Baseball
DESCRIPTION:Baseball: (Baseball) Reedley vs. Sequoias\, Final\, 2-3
UID:evjjns5don4cu4dj@prestosports.com
END:VEVENT
BEGIN:VEVENT
DTSTAMP:20260421T082253Z
DTSTART:20230324T210000Z
DURATION:PT3H
SUMMARY:(Baseball) Sequoias at Reedley
TRANSP:TRANSPARENT
CATEGORIES:Baseball
DESCRIPTION:Baseball: (Baseball) Sequoias at Reedley\, Final\, 10-5
UID:kwbuctz526bok52p@prestosports.com
END:VEVENT
BEGIN:VEVENT
DTSTAMP:20260421T082253Z
DTSTART:20230325T200000Z
DURATION:PT3H
SUMMARY:(Baseball) Sequoias at Reedley
TRANSP:TRANSPARENT
CATEGORIES:Baseball
DESCRIPTION:Baseball: (Baseball) Sequoias at Reedley\, Final\, 7-1
UID:9o47w37htkxaxemp@prestosports.com
END:VEVENT
BEGIN:VEVENT
DTSTAMP:20260421T082253Z
DTSTART:20230404T210000Z
DURATION:PT3H
SUMMARY:(Baseball) Saddleback vs. Sequoias
TRANSP:TRANSPARENT
CATEGORIES:Baseball
DESCRIPTION:Baseball: (Baseball) Saddleback vs. Sequoias\, Final\, 2-4
UID:rzcmwzkbgzznj7cv@prestosports.com
END:VEVENT
BEGIN:VEVENT
DTSTAMP:20260421T082253Z
DTSTART:20230405T200000Z
DURATION:PT3H
SUMMARY:(Baseball) Saddleback vs. Sequoias
TRANSP:TRANSPARENT
CATEGORIES:Baseball
DESCRIPTION:Baseball: (Baseball) Saddleback vs. Sequoias\, Final\, 2-14
UID:x5u4h4zp37kfxr0j@prestosports.com
END:VEVENT
BEGIN:VEVENT
DTSTAMP:20260421T082253Z
DTSTART:20230406T190000Z
DURATION:PT3H
SUMMARY:(Baseball) Saddleback vs. Sequoias
TRANSP:TRANSPARENT
CATEGORIES:Baseball
DESCRIPTION:Baseball: (Baseball) Saddleback vs. Sequoias\, Final - 11 innings\, 9-8
UID:q4s8n4k2e4ypi6lj@prestosports.com
END:VEVENT
BEGIN:VEVENT
DTSTAMP:20260421T082253Z
DTSTART:20230411T210000Z
DURATION:PT3H
SUMMARY:(Baseball) Taft vs. Sequoias
TRANSP:TRANSPARENT
CATEGORIES:Baseball
DESCRIPTION:Baseball: (Baseball) Taft vs. Sequoias\, Final\, 2-1
UID:bfdbpqq8hw3l17mx@prestosports.com
END:VEVENT
BEGIN:VEVENT
DTSTAMP:20260421T082253Z
DTSTART:20230413T210000Z
DURATION:PT3H
SUMMARY:(Baseball) Sequoias at Taft
TRANSP:TRANSPARENT
CATEGORIES:Baseball
DESCRIPTION:Baseball: (Baseball) Sequoias at Taft\, Final\, 8-4
UID:dvctmbyigqeksstd@prestosports.com
END:VEVENT
BEGIN:VEVENT
DTSTAMP:20260421T082253Z
DTSTART:20230415T210000Z
DURATION:PT3H
SUMMARY:(Baseball) Taft vs. Sequoias
TRANSP:TRANSPARENT
CATEGORIES:Baseball
DESCRIPTION:Baseball: (Baseball) Taft vs. Sequoias\, Final\, 9-1
UID:7tvq534e4y2vl889@prestosports.com
END:VEVENT
BEGIN:VEVENT
DTSTAMP:20260421T082253Z
DTSTART:20230418T210000Z
DURATION:PT3H
SUMMARY:(Baseball) Sequoias at Taft
TRANSP:TRANSPARENT
CATEGORIES:Baseball
DESCRIPTION:Baseball: (Baseball) Sequoias at Taft\, Final\, 5-7
UID:xiydpcblz2tb4104@prestosports.com
END:VEVENT
BEGIN:VEVENT
DTSTAMP:20260421T082253Z
DTSTART:20230420T210000Z
DURATION:PT3H
SUMMARY:(Baseball) Sequoias at Coalinga
TRANSP:TRANSPARENT
CATEGORIES:Baseball
DESCRIPTION:Baseball: (Baseball) Sequoias at Coalinga\, Final - 10 innings\, 5-3
UID:ldg1rbows2fqjlxm@prestosports.com
END:VEVENT
BEGIN:VEVENT
DTSTAMP:20260421T082253Z
DTSTART:20230422T200000Z
DURATION:PT3H
SUMMARY:(Baseball) Sequoias at Porterville
TRANSP:TRANSPARENT
CATEGORIES:Baseball
DESCRIPTION:Baseball: (Baseball) Sequoias at Porterville\, Final\, 10-4
UID:58lm3qqctuz15vfd@prestosports.com
END:VEVENT
BEGIN:VEVENT
DTSTAMP:20260421T082253Z
DTSTART:20230423T200000Z
DURATION:PT3H
SUMMARY:(Baseball) Reedley vs. Sequoias
TRANSP:TRANSPARENT
CATEGORIES:Baseball
DESCRIPTION:Baseball: (Baseball) Reedley vs. Sequoias\, Final\, 9-10
UID:wueq8rkgmlq0hpah@prestosports.com
END:VEVENT
BEGIN:VEVENT
DTSTAMP:20260421T082253Z
DTSTART:20230427T210000Z
DURATION:PT3H
SUMMARY:(Baseball) Fresno City vs. Sequoias
TRANSP:TRANSPARENT
CATEGORIES:Baseball
DESCRIPTION:Baseball: (Baseball) Fresno City vs. Sequoias\, Final\, 4-3
UID:6cz8cud9tx7dq7i7@prestosports.com
END:VEVENT
BEGIN:VEVENT
DTSTAMP:20260421T082253Z
DTSTART:20230428T210000Z
DURATION:PT3H
SUMMARY:(Baseball) Merced vs. Sequoias
TRANSP:TRANSPARENT
CATEGORIES:Baseball
DESCRIPTION:Baseball: (Baseball) Merced vs. Sequoias\, Final\, 2-12
UID:y3qr75l2jlu3pdh6@prestosports.com
END:VEVENT
BEGIN:VEVENT
DTSTAMP:20260421T082253Z
DTSTART:20230505T210000Z
DURATION:PT3H
SUMMARY:(Baseball) Sequoias at Sierra
TRANSP:TRANSPARENT
CATEGORIES:Baseball
DESCRIPTION:Baseball: (Baseball) Sequoias at Sierra\, CCCAA NorCal Regional Playoffs - Round One \, Final\, 5-8
UID:ddem4ctg49xdgdb3@prestosports.com
END:VEVENT
BEGIN:VEVENT
DTSTAMP:20260421T082253Z
DTSTART:20230506T180000Z
DURATION:PT3H
SUMMARY:(Baseball) Sequoias at Sierra
TRANSP:TRANSPARENT
CATEGORIES:Baseball
DESCRIPTION:Baseball: (Baseball) Sequoias at Sierra\, CCCAA NorCal Regional Playoffs - Round One \, Final\, 1-5
UID:swes1hr36mwumlq4@prestosports.com
END:VEVENT
END:VCALENDAR
