BEGIN:VCALENDAR
PRODID:-//www.prestosports.com//PrestoSports//EN
VERSION:2.0
CALSCALE:GREGORIAN
BEGIN:VEVENT
DTSTAMP:20260422T183409Z
DTSTART:20200118T200000Z
DURATION:PT3H
SUMMARY:(Baseball) San Diego Mesa at CSU San Marcos
TRANSP:TRANSPARENT
CATEGORIES:Baseball
DESCRIPTION:Baseball: (Baseball) San Diego Mesa at CSU San Marcos
UID:navmo93oiqgvk0mu@prestosports.com
END:VEVENT
BEGIN:VEVENT
DTSTAMP:20260422T183409Z
DTSTART:20200124T220000Z
DURATION:PT3H
SUMMARY:(Baseball) Santa Ana vs. San Diego Mesa
TRANSP:TRANSPARENT
CATEGORIES:Baseball
DESCRIPTION:Baseball: (Baseball) Santa Ana vs. San Diego Mesa\, Final\, 5-7
UID:fi91rnn9x4k3i0fb@prestosports.com
END:VEVENT
BEGIN:VEVENT
DTSTAMP:20260422T183409Z
DTSTART:20200125T210000Z
DURATION:PT3H
SUMMARY:(Baseball) San Diego Mesa at Pasadena City
TRANSP:TRANSPARENT
CATEGORIES:Baseball
DESCRIPTION:Baseball: (Baseball) San Diego Mesa at Pasadena City\, Brookside Park's Jackie Robinson Field\, Final\, 8-6
UID:a7shss0qkv7hagvw@prestosports.com
END:VEVENT
BEGIN:VEVENT
DTSTAMP:20260422T183409Z
DTSTART:20200128T220000Z
DURATION:PT3H
SUMMARY:(Baseball) Irvine Valley vs. San Diego Mesa
TRANSP:TRANSPARENT
CATEGORIES:Baseball
DESCRIPTION:Baseball: (Baseball) Irvine Valley vs. San Diego Mesa\, Final\, 6-11
UID:xezytgagdsxj61b5@prestosports.com
END:VEVENT
BEGIN:VEVENT
DTSTAMP:20260422T183409Z
DTSTART:20200130T220000Z
DURATION:PT3H
SUMMARY:(Baseball) San Diego Mesa at Irvine Valley
TRANSP:TRANSPARENT
CATEGORIES:Baseball
DESCRIPTION:Baseball: (Baseball) San Diego Mesa at Irvine Valley\, Final\, 10-7
UID:9vly9ihpmm0jl5u9@prestosports.com
END:VEVENT
BEGIN:VEVENT
DTSTAMP:20260422T183409Z
DTSTART:20200201T210000Z
DURATION:PT3H
SUMMARY:(Baseball) San Diego Mesa at El Camino
TRANSP:TRANSPARENT
CATEGORIES:Baseball
DESCRIPTION:Baseball: (Baseball) San Diego Mesa at El Camino\, Final\, 9-11
UID:7hxp29j3zzbhrrwd@prestosports.com
END:VEVENT
BEGIN:VEVENT
DTSTAMP:20260422T183409Z
DTSTART:20200206T220000Z
DURATION:PT3H
SUMMARY:(Baseball) San Diego Mesa at Rio Hondo
TRANSP:TRANSPARENT
CATEGORIES:Baseball
DESCRIPTION:Baseball: (Baseball) San Diego Mesa at Rio Hondo\, Final\, 6-2
UID:vvkcmk5ydililhge@prestosports.com
END:VEVENT
BEGIN:VEVENT
DTSTAMP:20260422T183409Z
DTSTART:20200207T220000Z
DURATION:PT3H
SUMMARY:(Baseball) Allan Hancock vs. San Diego Mesa
TRANSP:TRANSPARENT
CATEGORIES:Baseball
LOCATION:College of the Canyo
DESCRIPTION:Baseball: (Baseball) Allan Hancock vs. San Diego Mesa\, Final\, 7-13
UID:rlt1z45vr90gs49y@prestosports.com
END:VEVENT
BEGIN:VEVENT
DTSTAMP:20260422T183409Z
DTSTART:20200208T180000Z
DURATION:PT3H
SUMMARY:(Baseball) San Diego Mesa at Canyons
TRANSP:TRANSPARENT
CATEGORIES:Baseball
DESCRIPTION:Baseball: (Baseball) San Diego Mesa at Canyons\, Final\, 4-18
UID:vujat56bdkr7opo9@prestosports.com
END:VEVENT
BEGIN:VEVENT
DTSTAMP:20260422T183409Z
DTSTART:20200211T220000Z
DURATION:PT3H
SUMMARY:(Baseball) San Diego Mesa vs. Mt. San Jacinto
TRANSP:TRANSPARENT
CATEGORIES:Baseball
LOCATION:San Jacinto\, CA
DESCRIPTION:Baseball: (Baseball) San Diego Mesa vs. Mt. San Jacinto\, Final - 8 innings\, 19-6
UID:aw49szl7tb9khttz@prestosports.com
END:VEVENT
BEGIN:VEVENT
DTSTAMP:20260422T183409Z
DTSTART:20200213T220000Z
DURATION:PT3H
SUMMARY:(Baseball) Mt. San Jacinto vs. San Diego Mesa
TRANSP:TRANSPARENT
CATEGORIES:Baseball
LOCATION:San Diego
DESCRIPTION:Baseball: (Baseball) Mt. San Jacinto vs. San Diego Mesa\, Final\, 14-7
UID:sirjn5afc12163rz@prestosports.com
END:VEVENT
BEGIN:VEVENT
DTSTAMP:20260422T183409Z
DTSTART:20200215T210000Z
DURATION:PT3H
SUMMARY:(Baseball) San Diego Mesa at Fullerton
TRANSP:TRANSPARENT
CATEGORIES:Baseball
DESCRIPTION:Baseball: (Baseball) San Diego Mesa at Fullerton\, Final\, 11-3
UID:8tu30uklxomrbnn2@prestosports.com
END:VEVENT
BEGIN:VEVENT
DTSTAMP:20260422T183409Z
DTSTART:20200218T220000Z
DURATION:PT3H
SUMMARY:(Baseball) Glendale vs. San Diego Mesa
TRANSP:TRANSPARENT
CATEGORIES:Baseball
LOCATION:San Diego
DESCRIPTION:Baseball: (Baseball) Glendale vs. San Diego Mesa\, Final\, 4-9
UID:ekgjcoc60x1ym4hf@prestosports.com
END:VEVENT
BEGIN:VEVENT
DTSTAMP:20260422T183409Z
DTSTART:20200220T220000Z
DURATION:PT3H
SUMMARY:(Baseball) LA Mission vs. San Diego Mesa
TRANSP:TRANSPARENT
CATEGORIES:Baseball
LOCATION:San Diego
DESCRIPTION:Baseball: (Baseball) LA Mission vs. San Diego Mesa\, Final - 13 innings\, 2-2
UID:fq9ezoyohao5dd2l@prestosports.com
END:VEVENT
BEGIN:VEVENT
DTSTAMP:20260422T183409Z
DTSTART:20200222T210000Z
DURATION:PT3H
SUMMARY:(Baseball) San Diego Mesa at Santa Ana
TRANSP:TRANSPARENT
CATEGORIES:Baseball
DESCRIPTION:Baseball: (Baseball) San Diego Mesa at Santa Ana\, Final\, 19-6
UID:s24j5yjth7v4uidd@prestosports.com
END:VEVENT
BEGIN:VEVENT
DTSTAMP:20260422T183409Z
DTSTART:20200225T220000Z
DURATION:PT3H
SUMMARY:(Baseball) San Diego Mesa at Saddleback
TRANSP:TRANSPARENT
CATEGORIES:Baseball
DESCRIPTION:Baseball: (Baseball) San Diego Mesa at Saddleback\, Final\, 7-11
UID:59tt0r0wa4n7zeng@prestosports.com
END:VEVENT
BEGIN:VEVENT
DTSTAMP:20260422T183409Z
DTSTART:20200227T220000Z
DURATION:PT3H
SUMMARY:(Baseball) San Diego Mesa at Southwestern
TRANSP:TRANSPARENT
CATEGORIES:Baseball
DESCRIPTION:Baseball: (Baseball) San Diego Mesa at Southwestern\, Final\, 2-7
UID:489eljp6buqxdlgb@prestosports.com
END:VEVENT
BEGIN:VEVENT
DTSTAMP:20260422T183409Z
DTSTART:20200229T210000Z
DURATION:PT3H
SUMMARY:(Baseball) Southwestern vs. San Diego Mesa
TRANSP:TRANSPARENT
CATEGORIES:Baseball
DESCRIPTION:Baseball: (Baseball) Southwestern vs. San Diego Mesa\, Final\, 5-9
UID:wx7ppyg4w0cob4uy@prestosports.com
END:VEVENT
BEGIN:VEVENT
DTSTAMP:20260422T183409Z
DTSTART:20200303T220000Z
DURATION:PT3H
SUMMARY:(Baseball) San Diego Mesa at San Diego City
TRANSP:TRANSPARENT
CATEGORIES:Baseball
DESCRIPTION:Baseball: (Baseball) San Diego Mesa at San Diego City\, Final\, 5-4
UID:cwj5vrv5vi05u7vw@prestosports.com
END:VEVENT
BEGIN:VEVENT
DTSTAMP:20260422T183409Z
DTSTART:20200305T220000Z
DURATION:PT3H
SUMMARY:(Baseball) San Diego City vs. San Diego Mesa
TRANSP:TRANSPARENT
CATEGORIES:Baseball
DESCRIPTION:Baseball: (Baseball) San Diego City vs. San Diego Mesa\, Final\, 5-9
UID:42tgt1qk8dpiruit@prestosports.com
END:VEVENT
BEGIN:VEVENT
DTSTAMP:20260422T183409Z
DTSTART:20200307T210000Z
DURATION:PT3H
SUMMARY:(Baseball) Grossmont vs. San Diego Mesa
TRANSP:TRANSPARENT
CATEGORIES:Baseball
DESCRIPTION:Baseball: (Baseball) Grossmont vs. San Diego Mesa\, Final\, 9-4
UID:j4c90v7o1k2tu2uy@prestosports.com
END:VEVENT
BEGIN:VEVENT
DTSTAMP:20260422T183409Z
DTSTART:20200309T210000Z
DURATION:PT3H
SUMMARY:(Baseball) San Diego Mesa at Grossmont
TRANSP:TRANSPARENT
CATEGORIES:Baseball
DESCRIPTION:Baseball: (Baseball) San Diego Mesa at Grossmont\, Final\, 15-12
UID:1x8xzd3r3hiful1d@prestosports.com
END:VEVENT
BEGIN:VEVENT
DTSTAMP:20260422T183409Z
DTSTART:20200311T210000Z
DURATION:PT3H
SUMMARY:(Baseball) San Diego Mesa at Palomar
TRANSP:TRANSPARENT
CATEGORIES:Baseball
DESCRIPTION:Baseball: (Baseball) San Diego Mesa at Palomar\, Final\, 1-3
UID:9y7w9e3g0ajhpn9g@prestosports.com
END:VEVENT
BEGIN:VEVENT
DTSTAMP:20260422T183409Z
DTSTART:20200314T190000Z
DURATION:PT3H
SUMMARY:(Baseball) San Diego Mesa at Palomar
TRANSP:TRANSPARENT
CATEGORIES:Baseball
DESCRIPTION:Baseball: (Baseball) San Diego Mesa at Palomar\, Cancelled
UID:uocnapn28bvtx018@prestosports.com
END:VEVENT
BEGIN:VEVENT
DTSTAMP:20260422T183409Z
DTSTART:20200317T210000Z
DURATION:PT3H
SUMMARY:(Baseball) Imperial Valley vs. San Diego Mesa
TRANSP:TRANSPARENT
CATEGORIES:Baseball
DESCRIPTION:Baseball: (Baseball) Imperial Valley vs. San Diego Mesa\, Cancelled
UID:jizqx3el15oncy3z@prestosports.com
END:VEVENT
BEGIN:VEVENT
DTSTAMP:20260422T183409Z
DTSTART:20200319T210000Z
DURATION:PT3H
SUMMARY:(Baseball) San Diego Mesa at Imperial Valley
TRANSP:TRANSPARENT
CATEGORIES:Baseball
DESCRIPTION:Baseball: (Baseball) San Diego Mesa at Imperial Valley\, Cancelled
UID:0hyc261na5ofsr34@prestosports.com
END:VEVENT
BEGIN:VEVENT
DTSTAMP:20260422T183409Z
DTSTART:20200324T210000Z
DURATION:PT3H
SUMMARY:(Baseball) Southwestern vs. San Diego Mesa
TRANSP:TRANSPARENT
CATEGORIES:Baseball
DESCRIPTION:Baseball: (Baseball) Southwestern vs. San Diego Mesa\, Cancelled
UID:htki6aper4c3d3oy@prestosports.com
END:VEVENT
BEGIN:VEVENT
DTSTAMP:20260422T183409Z
DTSTART:20200326T210000Z
DURATION:PT3H
SUMMARY:(Baseball) San Diego Mesa at Southwestern
TRANSP:TRANSPARENT
CATEGORIES:Baseball
DESCRIPTION:Baseball: (Baseball) San Diego Mesa at Southwestern\, Cancelled
UID:r74ji2at8u7rhe0a@prestosports.com
END:VEVENT
BEGIN:VEVENT
DTSTAMP:20260422T183409Z
DTSTART:20200328T200000Z
DURATION:PT3H
SUMMARY:(Baseball) Southwestern vs. San Diego Mesa
TRANSP:TRANSPARENT
CATEGORIES:Baseball
DESCRIPTION:Baseball: (Baseball) Southwestern vs. San Diego Mesa\, Cancelled
UID:gbmy48w8t0pf64fv@prestosports.com
END:VEVENT
BEGIN:VEVENT
DTSTAMP:20260422T183409Z
DTSTART:20200331T210000Z
DURATION:PT3H
SUMMARY:(Baseball) San Diego City vs. San Diego Mesa
TRANSP:TRANSPARENT
CATEGORIES:Baseball
DESCRIPTION:Baseball: (Baseball) San Diego City vs. San Diego Mesa\, Cancelled
UID:51cy28xwbja6d6w3@prestosports.com
END:VEVENT
BEGIN:VEVENT
DTSTAMP:20260422T183409Z
DTSTART:20200402T210000Z
DURATION:PT3H
SUMMARY:(Baseball) San Diego Mesa at San Diego City
TRANSP:TRANSPARENT
CATEGORIES:Baseball
DESCRIPTION:Baseball: (Baseball) San Diego Mesa at San Diego City\, Cancelled
UID:rqtkhrlkiaw5wmf0@prestosports.com
END:VEVENT
BEGIN:VEVENT
DTSTAMP:20260422T183409Z
DTSTART:20200404T200000Z
DURATION:PT3H
SUMMARY:(Baseball) San Diego City vs. San Diego Mesa
TRANSP:TRANSPARENT
CATEGORIES:Baseball
DESCRIPTION:Baseball: (Baseball) San Diego City vs. San Diego Mesa\, Cancelled
UID:zl0lcc3wwyv79shf@prestosports.com
END:VEVENT
BEGIN:VEVENT
DTSTAMP:20260422T183409Z
DTSTART:20200407T210000Z
DURATION:PT3H
SUMMARY:(Baseball) San Diego Mesa at Grossmont
TRANSP:TRANSPARENT
CATEGORIES:Baseball
DESCRIPTION:Baseball: (Baseball) San Diego Mesa at Grossmont\, Cancelled
UID:175sv8obk8zq5uuo@prestosports.com
END:VEVENT
BEGIN:VEVENT
DTSTAMP:20260422T183409Z
DTSTART:20200409T210000Z
DURATION:PT3H
SUMMARY:(Baseball) Grossmont vs. San Diego Mesa
TRANSP:TRANSPARENT
CATEGORIES:Baseball
DESCRIPTION:Baseball: (Baseball) Grossmont vs. San Diego Mesa\, Cancelled
UID:b2dspdfedcviwhxh@prestosports.com
END:VEVENT
BEGIN:VEVENT
DTSTAMP:20260422T183409Z
DTSTART:20200410T210000Z
DURATION:PT3H
SUMMARY:(Baseball) San Diego Mesa at Grossmont
TRANSP:TRANSPARENT
CATEGORIES:Baseball
DESCRIPTION:Baseball: (Baseball) San Diego Mesa at Grossmont\, Cancelled
UID:82mxuv0n2zm3k9ia@prestosports.com
END:VEVENT
BEGIN:VEVENT
DTSTAMP:20260422T183409Z
DTSTART:20200411T200000Z
DURATION:PT3H
SUMMARY:(Baseball) San Diego Mesa at Grossmont
TRANSP:TRANSPARENT
CATEGORIES:Baseball
DESCRIPTION:Baseball: (Baseball) San Diego Mesa at Grossmont\, Cancelled
UID:3azsyhp6meqd5vw6@prestosports.com
END:VEVENT
BEGIN:VEVENT
DTSTAMP:20260422T183409Z
DTSTART:20200414T210000Z
DURATION:PT3H
SUMMARY:(Baseball) San Diego Mesa at Palomar
TRANSP:TRANSPARENT
CATEGORIES:Baseball
DESCRIPTION:Baseball: (Baseball) San Diego Mesa at Palomar\, Cancelled
UID:p4zrmd3daf6tnzjh@prestosports.com
END:VEVENT
BEGIN:VEVENT
DTSTAMP:20260422T183409Z
DTSTART:20200416T210000Z
DURATION:PT3H
SUMMARY:(Baseball) Palomar vs. San Diego Mesa
TRANSP:TRANSPARENT
CATEGORIES:Baseball
DESCRIPTION:Baseball: (Baseball) Palomar vs. San Diego Mesa\, Cancelled
UID:qr28qks51crfy1x4@prestosports.com
END:VEVENT
BEGIN:VEVENT
DTSTAMP:20260422T183409Z
DTSTART:20200418T210000Z
DURATION:PT3H
SUMMARY:(Baseball) San Diego Mesa at Palomar
TRANSP:TRANSPARENT
CATEGORIES:Baseball
DESCRIPTION:Baseball: (Baseball) San Diego Mesa at Palomar\, Cancelled
UID:u1w16ndhbwjsvsas@prestosports.com
END:VEVENT
BEGIN:VEVENT
DTSTAMP:20260422T183409Z
DTSTART:20200421T210000Z
DURATION:PT3H
SUMMARY:(Baseball) San Diego Mesa at Imperial Valley
TRANSP:TRANSPARENT
CATEGORIES:Baseball
DESCRIPTION:Baseball: (Baseball) San Diego Mesa at Imperial Valley\, Cancelled
UID:ccl118lyt25mtz0l@prestosports.com
END:VEVENT
BEGIN:VEVENT
DTSTAMP:20260422T183409Z
DTSTART:20200423T210000Z
DURATION:PT3H
SUMMARY:(Baseball) Imperial Valley vs. San Diego Mesa
TRANSP:TRANSPARENT
CATEGORIES:Baseball
DESCRIPTION:Baseball: (Baseball) Imperial Valley vs. San Diego Mesa\, Cancelled
UID:nw97xo9jtbvallhk@prestosports.com
END:VEVENT
BEGIN:VEVENT
DTSTAMP:20260422T183409Z
DTSTART:20200424T210000Z
DURATION:PT3H
SUMMARY:(Baseball) San Diego Mesa at Imperial Valley
TRANSP:TRANSPARENT
CATEGORIES:Baseball
DESCRIPTION:Baseball: (Baseball) San Diego Mesa at Imperial Valley\, Cancelled
UID:p6q7fx6vbqw3bro0@prestosports.com
END:VEVENT
BEGIN:VEVENT
DTSTAMP:20260422T183409Z
DTSTART;VALUE=DATE:20200501
SUMMARY:(Baseball) San Diego Mesa at SoCal Regionals
TRANSP:TRANSPARENT
CATEGORIES:Baseball
DESCRIPTION:Baseball: (Baseball) San Diego Mesa at SoCal Regionals\, Cancelled
UID:um0f4uflqc3ex4uq@prestosports.com
END:VEVENT
BEGIN:VEVENT
DTSTAMP:20260422T183409Z
DTSTART;VALUE=DATE:20200502
SUMMARY:(Baseball) San Diego Mesa at SoCal Regionals
TRANSP:TRANSPARENT
CATEGORIES:Baseball
DESCRIPTION:Baseball: (Baseball) San Diego Mesa at SoCal Regionals\, Cancelled
UID:mn4z80vw69vtejr6@prestosports.com
END:VEVENT
BEGIN:VEVENT
DTSTAMP:20260422T183409Z
DTSTART;VALUE=DATE:20200508
SUMMARY:(Baseball) San Diego Mesa at SoCal Super Regionals
TRANSP:TRANSPARENT
CATEGORIES:Baseball
DESCRIPTION:Baseball: (Baseball) San Diego Mesa at SoCal Super Regionals\, Cancelled
UID:wmca33bbepd18r7y@prestosports.com
END:VEVENT
BEGIN:VEVENT
DTSTAMP:20260422T183409Z
DTSTART;VALUE=DATE:20200509
SUMMARY:(Baseball) San Diego Mesa at SoCal Super Regionals
TRANSP:TRANSPARENT
CATEGORIES:Baseball
DESCRIPTION:Baseball: (Baseball) San Diego Mesa at SoCal Super Regionals\, Cancelled
UID:k54abxwqxqu1b4rz@prestosports.com
END:VEVENT
BEGIN:VEVENT
DTSTAMP:20260422T183409Z
DTSTART;VALUE=DATE:20200515
SUMMARY:(Baseball) San Diego Mesa at SoCal Regionals Finals
TRANSP:TRANSPARENT
CATEGORIES:Baseball
DESCRIPTION:Baseball: (Baseball) San Diego Mesa at SoCal Regionals Finals\, Cancelled
UID:ny9um5vq7964eu4a@prestosports.com
END:VEVENT
BEGIN:VEVENT
DTSTAMP:20260422T183409Z
DTSTART;VALUE=DATE:20200516
SUMMARY:(Baseball) San Diego Mesa at SoCal Regional Finals
TRANSP:TRANSPARENT
CATEGORIES:Baseball
DESCRIPTION:Baseball: (Baseball) San Diego Mesa at SoCal Regional Finals\, Cancelled
UID:l5rvxzy4mvp1s945@prestosports.com
END:VEVENT
BEGIN:VEVENT
DTSTAMP:20260422T183409Z
DTSTART;VALUE=DATE:20200523
SUMMARY:(Baseball) San Diego Mesa vs. CCCAA State Finals
TRANSP:TRANSPARENT
CATEGORIES:Baseball
LOCATION:Fresno\, CA
DESCRIPTION:Baseball: (Baseball) San Diego Mesa vs. CCCAA State Finals\, Cancelled
UID:vyo04xb48l0hs197@prestosports.com
END:VEVENT
BEGIN:VEVENT
DTSTAMP:20260422T183409Z
DTSTART;VALUE=DATE:20200524
SUMMARY:(Baseball) San Diego Mesa vs. CCCAA State Finals
TRANSP:TRANSPARENT
CATEGORIES:Baseball
LOCATION:Fresno\, CA
DESCRIPTION:Baseball: (Baseball) San Diego Mesa vs. CCCAA State Finals\, Cancelled
UID:nushkplvl2rzr1h1@prestosports.com
END:VEVENT
BEGIN:VEVENT
DTSTAMP:20260422T183409Z
DTSTART;VALUE=DATE:20200525
SUMMARY:(Baseball) San Diego Mesa vs. CCCAA State Finals
TRANSP:TRANSPARENT
CATEGORIES:Baseball
LOCATION:Fresno\, CA
DESCRIPTION:Baseball: (Baseball) San Diego Mesa vs. CCCAA State Finals\, Cancelled
UID:oqni6dw74cbs0fjk@prestosports.com
END:VEVENT
END:VCALENDAR
