BEGIN:VCALENDAR
PRODID:-//www.prestosports.com//PrestoSports//EN
VERSION:2.0
CALSCALE:GREGORIAN
BEGIN:VEVENT
DTSTAMP:20260420T215801Z
DTSTART:20200115T220000Z
DURATION:PT3H
SUMMARY:(Baseball) LA Pierce at LA Valley
TRANSP:TRANSPARENT
CATEGORIES:Baseball
DESCRIPTION:Baseball: (Baseball) LA Pierce at LA Valley
UID:23fnk1mumme8wkcg@prestosports.com
END:VEVENT
BEGIN:VEVENT
DTSTAMP:20260420T215801Z
DTSTART:20200126T020000Z
DURATION:PT3H
SUMMARY:(Baseball) LA Pierce at Riverside
TRANSP:TRANSPARENT
CATEGORIES:Baseball
DESCRIPTION:Baseball: (Baseball) LA Pierce at Riverside\, Final - 10 innings\, 6-7
UID:kil8ihxcwbjazl68@prestosports.com
END:VEVENT
BEGIN:VEVENT
DTSTAMP:20260420T215801Z
DTSTART:20200129T000000Z
DURATION:PT3H
SUMMARY:(Baseball) LA Pierce at Bakersfield
TRANSP:TRANSPARENT
CATEGORIES:Baseball
DESCRIPTION:Baseball: (Baseball) LA Pierce at Bakersfield\, Final\, 6-1
UID:781eqqbavdrmadck@prestosports.com
END:VEVENT
BEGIN:VEVENT
DTSTAMP:20260420T215801Z
DTSTART:20200130T220000Z
DURATION:PT3H
SUMMARY:(Baseball) LA Pierce at Pasadena City
TRANSP:TRANSPARENT
CATEGORIES:Baseball
DESCRIPTION:Baseball: (Baseball) LA Pierce at Pasadena City\, Jackie Robinson Memorial Field\, Final\, 12-7
UID:7tyw5o5cwncl0zfr@prestosports.com
END:VEVENT
BEGIN:VEVENT
DTSTAMP:20260420T215801Z
DTSTART:20200131T220000Z
DURATION:PT3H
SUMMARY:(Baseball) LA Pierce at Long Beach
TRANSP:TRANSPARENT
CATEGORIES:Baseball
DESCRIPTION:Baseball: (Baseball) LA Pierce at Long Beach\, Southern California Challenge\, Final\, 5-6
UID:5hq6hwi2lhk3lyou@prestosports.com
END:VEVENT
BEGIN:VEVENT
DTSTAMP:20260420T215801Z
DTSTART:20200201T220000Z
DURATION:PT3H
SUMMARY:(Baseball) LA Pierce at LA Harbor
TRANSP:TRANSPARENT
CATEGORIES:Baseball
DESCRIPTION:Baseball: (Baseball) LA Pierce at LA Harbor\, SoCal Rawlings Tournament\, Final - 8 innings\, 18-7
UID:miiay25fbq0s57hz@prestosports.com
END:VEVENT
BEGIN:VEVENT
DTSTAMP:20260420T215801Z
DTSTART:20200208T200000Z
DURATION:PT3H
SUMMARY:(Baseball) LA Pierce at Cypress
TRANSP:TRANSPARENT
CATEGORIES:Baseball
DESCRIPTION:Baseball: (Baseball) LA Pierce at Cypress\, Final\, 6-22
UID:l84n8z9rdxf71soc@prestosports.com
END:VEVENT
BEGIN:VEVENT
DTSTAMP:20260420T215801Z
DTSTART:20200211T220000Z
DURATION:PT3H
SUMMARY:(Baseball) LA Pierce at Mt. San Antonio
TRANSP:TRANSPARENT
CATEGORIES:Baseball
DESCRIPTION:Baseball: (Baseball) LA Pierce at Mt. San Antonio\, Final\, 4-13
UID:0qgtjbe2tmu0sz7k@prestosports.com
END:VEVENT
BEGIN:VEVENT
DTSTAMP:20260420T215801Z
DTSTART:20200214T220000Z
DURATION:PT3H
SUMMARY:(Baseball) LA Pierce at West LA
TRANSP:TRANSPARENT
CATEGORIES:Baseball
DESCRIPTION:Baseball: (Baseball) LA Pierce at West LA\, Final\, 4-2
UID:gquilidxm3hxjefa@prestosports.com
END:VEVENT
BEGIN:VEVENT
DTSTAMP:20260420T215801Z
DTSTART:20200215T200000Z
DURATION:PT3H
SUMMARY:(Baseball) LA Pierce at LA Mission
TRANSP:TRANSPARENT
CATEGORIES:Baseball
DESCRIPTION:Baseball: (Baseball) LA Pierce at LA Mission\, Final\, 1-17
UID:51g4t4szqgqxqxrg@prestosports.com
END:VEVENT
BEGIN:VEVENT
DTSTAMP:20260420T215801Z
DTSTART:20200218T220000Z
DURATION:PT3H
SUMMARY:(Baseball) LA Pierce at West LA
TRANSP:TRANSPARENT
CATEGORIES:Baseball
DESCRIPTION:Baseball: (Baseball) LA Pierce at West LA\, Final\, 10-5
UID:po2d7abz5jjgmy9w@prestosports.com
END:VEVENT
BEGIN:VEVENT
DTSTAMP:20260420T215801Z
DTSTART:20200220T220000Z
DURATION:PT3H
SUMMARY:(Baseball) LA Pierce at LA Harbor
TRANSP:TRANSPARENT
CATEGORIES:Baseball
DESCRIPTION:Baseball: (Baseball) LA Pierce at LA Harbor\, Final\, 2-4
UID:hw80xciz52ndkwgi@prestosports.com
END:VEVENT
BEGIN:VEVENT
DTSTAMP:20260420T215801Z
DTSTART:20200222T210000Z
DURATION:PT3H
SUMMARY:(Baseball) LA Pierce at Bakersfield
TRANSP:TRANSPARENT
CATEGORIES:Baseball
DESCRIPTION:Baseball: (Baseball) LA Pierce at Bakersfield\, Final\, 5-3
UID:g8lqhbfpq53e62pt@prestosports.com
END:VEVENT
BEGIN:VEVENT
DTSTAMP:20260420T215801Z
DTSTART:20200225T220000Z
DURATION:PT3H
SUMMARY:(Baseball) LA Pierce at Moorpark
TRANSP:TRANSPARENT
CATEGORIES:Baseball
DESCRIPTION:Baseball: (Baseball) LA Pierce at Moorpark\, Final\, 4-2
UID:pktl214y2526jhfq@prestosports.com
END:VEVENT
BEGIN:VEVENT
DTSTAMP:20260420T215801Z
DTSTART:20200227T220000Z
DURATION:PT3H
SUMMARY:(Baseball) LA Pierce at Moorpark
TRANSP:TRANSPARENT
CATEGORIES:Baseball
DESCRIPTION:Baseball: (Baseball) LA Pierce at Moorpark\, Final\, 1-9
UID:y6p9q3d486d7rzlp@prestosports.com
END:VEVENT
BEGIN:VEVENT
DTSTAMP:20260420T215801Z
DTSTART:20200229T200000Z
DURATION:PT3H
SUMMARY:(Baseball) LA Pierce at Moorpark
TRANSP:TRANSPARENT
CATEGORIES:Baseball
DESCRIPTION:Baseball: (Baseball) LA Pierce at Moorpark\, Final\, 0-5
UID:o5icmkxjhpiku85f@prestosports.com
END:VEVENT
BEGIN:VEVENT
DTSTAMP:20260420T215801Z
DTSTART:20200303T220000Z
DURATION:PT3H
SUMMARY:(Baseball) Cuesta vs. LA Pierce
TRANSP:TRANSPARENT
CATEGORIES:Baseball
LOCATION:Oxnard College
DESCRIPTION:Baseball: (Baseball) Cuesta vs. LA Pierce\, Final\, 1-4
UID:r16h8mszf5lfj2f0@prestosports.com
END:VEVENT
BEGIN:VEVENT
DTSTAMP:20260420T215801Z
DTSTART:20200305T220000Z
DURATION:PT3H
SUMMARY:(Baseball) LA Pierce at Cuesta
TRANSP:TRANSPARENT
CATEGORIES:Baseball
DESCRIPTION:Baseball: (Baseball) LA Pierce at Cuesta\, Final\, 9-8
UID:2t8a3hffve657jy4@prestosports.com
END:VEVENT
BEGIN:VEVENT
DTSTAMP:20260420T215801Z
DTSTART:20200307T210000Z
DURATION:PT3H
SUMMARY:(Baseball) Cuesta vs. LA Pierce
TRANSP:TRANSPARENT
CATEGORIES:Baseball
LOCATION:Oxnard
DESCRIPTION:Baseball: (Baseball) Cuesta vs. LA Pierce\, Final - 11 innings\, 1-0
UID:tlgy5up86dxekxm0@prestosports.com
END:VEVENT
BEGIN:VEVENT
DTSTAMP:20260420T215801Z
DTSTART:20200309T213000Z
DURATION:PT3H
SUMMARY:(Baseball) LA Pierce at Oxnard
TRANSP:TRANSPARENT
CATEGORIES:Baseball
DESCRIPTION:Baseball: (Baseball) LA Pierce at Oxnard\, Final\, 10-3
UID:zc4w11ua17emmo6a@prestosports.com
END:VEVENT
BEGIN:VEVENT
DTSTAMP:20260420T215801Z
DTSTART:20200312T213000Z
DURATION:PT3H
SUMMARY:(Baseball) Oxnard vs. LA Pierce
TRANSP:TRANSPARENT
CATEGORIES:Baseball
LOCATION:Oxnard
DESCRIPTION:Baseball: (Baseball) Oxnard vs. LA Pierce\, Final - 6 innings\, 0-2
UID:uxkfataqsnnxil0k@prestosports.com
END:VEVENT
BEGIN:VEVENT
DTSTAMP:20260420T215801Z
DTSTART:20200314T200000Z
DURATION:PT3H
SUMMARY:(Baseball) LA Pierce at Oxnard
TRANSP:TRANSPARENT
CATEGORIES:Baseball
DESCRIPTION:Baseball: (Baseball) LA Pierce at Oxnard\, Cancelled
UID:1on5aonjauv5hnr2@prestosports.com
END:VEVENT
BEGIN:VEVENT
DTSTAMP:20260420T215801Z
DTSTART:20200317T213000Z
DURATION:PT3H
SUMMARY:(Baseball) Santa Barbara vs. LA Pierce
TRANSP:TRANSPARENT
CATEGORIES:Baseball
DESCRIPTION:Baseball: (Baseball) Santa Barbara vs. LA Pierce\, At Moorpark College\, Cancelled
UID:x22vfjnlxaf4wxwb@prestosports.com
END:VEVENT
BEGIN:VEVENT
DTSTAMP:20260420T215801Z
DTSTART:20200319T213000Z
DURATION:PT3H
SUMMARY:(Baseball) LA Pierce at Santa Barbara
TRANSP:TRANSPARENT
CATEGORIES:Baseball
DESCRIPTION:Baseball: (Baseball) LA Pierce at Santa Barbara\, Cancelled
UID:6pfdj14u5o2s2vsh@prestosports.com
END:VEVENT
BEGIN:VEVENT
DTSTAMP:20260420T215801Z
DTSTART:20200321T200000Z
DURATION:PT3H
SUMMARY:(Baseball) Santa Barbara vs. LA Pierce
TRANSP:TRANSPARENT
CATEGORIES:Baseball
DESCRIPTION:Baseball: (Baseball) Santa Barbara vs. LA Pierce\, At Moorpark College\, Cancelled
UID:oicbcrev1ibxm7td@prestosports.com
END:VEVENT
BEGIN:VEVENT
DTSTAMP:20260420T215801Z
DTSTART:20200324T213000Z
DURATION:PT3H
SUMMARY:(Baseball) LA Pierce at Ventura
TRANSP:TRANSPARENT
CATEGORIES:Baseball
DESCRIPTION:Baseball: (Baseball) LA Pierce at Ventura\, Cancelled
UID:bgt320z83i20s9vi@prestosports.com
END:VEVENT
BEGIN:VEVENT
DTSTAMP:20260420T215801Z
DTSTART:20200326T213000Z
DURATION:PT3H
SUMMARY:(Baseball) LA Pierce at Ventura
TRANSP:TRANSPARENT
CATEGORIES:Baseball
DESCRIPTION:Baseball: (Baseball) LA Pierce at Ventura\, Cancelled
UID:81iz7n8xcnmdra7e@prestosports.com
END:VEVENT
BEGIN:VEVENT
DTSTAMP:20260420T215801Z
DTSTART:20200328T200000Z
DURATION:PT3H
SUMMARY:(Baseball) Ventura vs. LA Pierce
TRANSP:TRANSPARENT
CATEGORIES:Baseball
DESCRIPTION:Baseball: (Baseball) Ventura vs. LA Pierce\, played at LA Valley College\, Cancelled
UID:ahj567wjih7q73zx@prestosports.com
END:VEVENT
BEGIN:VEVENT
DTSTAMP:20260420T215801Z
DTSTART:20200331T213000Z
DURATION:PT3H
SUMMARY:(Baseball) LA Pierce at Allan Hancock
TRANSP:TRANSPARENT
CATEGORIES:Baseball
DESCRIPTION:Baseball: (Baseball) LA Pierce at Allan Hancock\, Cancelled
UID:4aec0hky575ss1vw@prestosports.com
END:VEVENT
BEGIN:VEVENT
DTSTAMP:20260420T215801Z
DTSTART:20200402T213000Z
DURATION:PT3H
SUMMARY:(Baseball) Allan Hancock vs. LA Pierce
TRANSP:TRANSPARENT
CATEGORIES:Baseball
DESCRIPTION:Baseball: (Baseball) Allan Hancock vs. LA Pierce\, Cancelled
UID:cbdjn8jmmqvt3mll@prestosports.com
END:VEVENT
BEGIN:VEVENT
DTSTAMP:20260420T215801Z
DTSTART:20200403T213000Z
DURATION:PT3H
SUMMARY:(Baseball) LA Pierce at Allan Hancock
TRANSP:TRANSPARENT
CATEGORIES:Baseball
DESCRIPTION:Baseball: (Baseball) LA Pierce at Allan Hancock\, Cancelled
UID:3w26425nzxjsjmnx@prestosports.com
END:VEVENT
BEGIN:VEVENT
DTSTAMP:20260420T215801Z
DTSTART:20200408T213000Z
DURATION:PT3H
SUMMARY:(Baseball) LA Pierce at LA Valley
TRANSP:TRANSPARENT
CATEGORIES:Baseball
DESCRIPTION:Baseball: (Baseball) LA Pierce at LA Valley\, Cancelled
UID:bey0kcactncqmxsy@prestosports.com
END:VEVENT
BEGIN:VEVENT
DTSTAMP:20260420T215801Z
DTSTART:20200409T210000Z
DURATION:PT3H
SUMMARY:(Baseball) Taft vs. LA Pierce
TRANSP:TRANSPARENT
CATEGORIES:Baseball
LOCATION:@ Birmingham High School
DESCRIPTION:Baseball: (Baseball) Taft vs. LA Pierce\, @ Birmingham High School\, Cancelled
UID:chjc2g7ksckggwfk@prestosports.com
END:VEVENT
BEGIN:VEVENT
DTSTAMP:20260420T215801Z
DTSTART:20200410T210000Z
DURATION:PT3H
SUMMARY:(Baseball) Riverside vs. LA Pierce
TRANSP:TRANSPARENT
CATEGORIES:Baseball
DESCRIPTION:Baseball: (Baseball) Riverside vs. LA Pierce\, Rescheduled from 2/24\, Cancelled
UID:k63ar9gi300v62i5@prestosports.com
END:VEVENT
BEGIN:VEVENT
DTSTAMP:20260420T215801Z
DTSTART:20200414T210000Z
DURATION:PT3H
SUMMARY:(Baseball) LA Pierce at Cerritos
TRANSP:TRANSPARENT
CATEGORIES:Baseball
DESCRIPTION:Baseball: (Baseball) LA Pierce at Cerritos\, Cancelled
UID:jyz27mi5bvk226al@prestosports.com
END:VEVENT
BEGIN:VEVENT
DTSTAMP:20260420T215801Z
DTSTART:20200416T213000Z
DURATION:PT3H
SUMMARY:(Baseball) Moorpark vs. LA Pierce
TRANSP:TRANSPARENT
CATEGORIES:Baseball
DESCRIPTION:Baseball: (Baseball) Moorpark vs. LA Pierce\, Cancelled
UID:t1xjvf21lokgx3gq@prestosports.com
END:VEVENT
BEGIN:VEVENT
DTSTAMP:20260420T215801Z
DTSTART:20200418T200000Z
DURATION:PT3H
SUMMARY:(Baseball) LA Pierce at Cuesta
TRANSP:TRANSPARENT
CATEGORIES:Baseball
DESCRIPTION:Baseball: (Baseball) LA Pierce at Cuesta\, Cancelled
UID:ttzoxf45u7a9afre@prestosports.com
END:VEVENT
BEGIN:VEVENT
DTSTAMP:20260420T215801Z
DTSTART:20200421T213000Z
DURATION:PT3H
SUMMARY:(Baseball) Oxnard vs. LA Pierce
TRANSP:TRANSPARENT
CATEGORIES:Baseball
DESCRIPTION:Baseball: (Baseball) Oxnard vs. LA Pierce\, Cancelled
UID:pqrwwky4avtlwqil@prestosports.com
END:VEVENT
BEGIN:VEVENT
DTSTAMP:20260420T215801Z
DTSTART:20200423T213000Z
DURATION:PT3H
SUMMARY:(Baseball) LA Pierce at Santa Barbara
TRANSP:TRANSPARENT
CATEGORIES:Baseball
DESCRIPTION:Baseball: (Baseball) LA Pierce at Santa Barbara\, Cancelled
UID:lt5zktqtggkz8kkp@prestosports.com
END:VEVENT
BEGIN:VEVENT
DTSTAMP:20260420T215801Z
DTSTART:20200424T213000Z
DURATION:PT3H
SUMMARY:(Baseball) Ventura vs. LA Pierce
TRANSP:TRANSPARENT
CATEGORIES:Baseball
DESCRIPTION:Baseball: (Baseball) Ventura vs. LA Pierce\, Cancelled
UID:hjxqxun80wgjzv9m@prestosports.com
END:VEVENT
BEGIN:VEVENT
DTSTAMP:20260420T215801Z
DTSTART:20200425T200000Z
DURATION:PT3H
SUMMARY:(Baseball) Allan Hancock vs. LA Pierce
TRANSP:TRANSPARENT
CATEGORIES:Baseball
DESCRIPTION:Baseball: (Baseball) Allan Hancock vs. LA Pierce\, Cancelled
UID:f7045by30if2fx14@prestosports.com
END:VEVENT
END:VCALENDAR
